BEGIN:VCALENDAR
VERSION:2.0
PRODID:-//Wyld Blu - ECPv6.15.20//NONSGML v1.0//EN
CALSCALE:GREGORIAN
METHOD:PUBLISH
X-WR-CALNAME:Wyld Blu
X-ORIGINAL-URL:https://wyldblu.com
X-WR-CALDESC:Events for Wyld Blu
REFRESH-INTERVAL;VALUE=DURATION:PT1H
X-Robots-Tag:noindex
X-PUBLISHED-TTL:PT1H
BEGIN:VTIMEZONE
TZID:America/New_York
BEGIN:DAYLIGHT
TZOFFSETFROM:-0500
TZOFFSETTO:-0400
TZNAME:EDT
DTSTART:20220313T070000
END:DAYLIGHT
BEGIN:STANDARD
TZOFFSETFROM:-0400
TZOFFSETTO:-0500
TZNAME:EST
DTSTART:20221106T060000
END:STANDARD
BEGIN:DAYLIGHT
TZOFFSETFROM:-0500
TZOFFSETTO:-0400
TZNAME:EDT
DTSTART:20230312T070000
END:DAYLIGHT
BEGIN:STANDARD
TZOFFSETFROM:-0400
TZOFFSETTO:-0500
TZNAME:EST
DTSTART:20231105T060000
END:STANDARD
BEGIN:DAYLIGHT
TZOFFSETFROM:-0500
TZOFFSETTO:-0400
TZNAME:EDT
DTSTART:20240310T070000
END:DAYLIGHT
BEGIN:STANDARD
TZOFFSETFROM:-0400
TZOFFSETTO:-0500
TZNAME:EST
DTSTART:20241103T060000
END:STANDARD
BEGIN:DAYLIGHT
TZOFFSETFROM:-0500
TZOFFSETTO:-0400
TZNAME:EDT
DTSTART:20250309T070000
END:DAYLIGHT
BEGIN:STANDARD
TZOFFSETFROM:-0400
TZOFFSETTO:-0500
TZNAME:EST
DTSTART:20251102T060000
END:STANDARD
END:VTIMEZONE
BEGIN:VEVENT
DTSTART;TZID=America/New_York:20240210T190000
DTEND;TZID=America/New_York:20240210T210000
DTSTAMP:20260423T075036
CREATED:20231129T143603Z
LAST-MODIFIED:20231129T143603Z
UID:3162-1707591600-1707598800@wyldblu.com
SUMMARY:SOLO BLU @ Windham Local Public House
DESCRIPTION:An intimate evening of live acoustic blues. Eddie Music Award Winner Blues Artist of the Year – Alana will be servin’ up her blues with a generous side order of rhythm\, heart and soul. Her menu is rich\, reflecting a variety of influences from classic and Texas blues\, boogie\, R&B – even a splash of bluegrass and country flavors. Got a taste for great live music? Bring your appetite\, a smile and enjoy! \nThe Windham Local is a community-oriented cafe\, restaurant and bar located in beautiful downtown Windham\, NY. Our menu highlights fresh ingredients from local farms. We serve premium coffee and espresso drinks and fresh pastries\, baked daily. Our lunch and dinner menus are filled with creative comfort food perfect to enjoy with our wide selection of local beer\, wine and non-alcoholic beverages.
URL:https://wyldblu.com/events/solo-blu-windham-local-public-house-2/
LOCATION:Windham Local Public House\, 5410 NY-23 MAIN STREET\, WINDHAM\, NY\, 12496
END:VEVENT
BEGIN:VEVENT
DTSTART;TZID=America/New_York:20240203T150000
DTEND;TZID=America/New_York:20240203T180000
DTSTAMP:20260423T075036
CREATED:20231129T143418Z
LAST-MODIFIED:20231129T143418Z
UID:3159-1706972400-1706983200@wyldblu.com
SUMMARY:Aprés-Ski @ Plattekill Mountain
DESCRIPTION:Aprés-Ski the Wyld way! Acoustic live blues ‘n brews\, incredible mountain views\, great food\, bar specials and more.. \nFiercely independent\, a real family mountain! Plattekill offers an authentic mountain vibe and a unique atmosphere that simply can’t be experienced at larger resorts.  If you are looking for a true family mountain\, you’ve found it.  Plattekill offers 39 trails and terrain for all abilities – Located in the Northwestern Catskills of New York\, home to skiing\, snowboarding and snow tubing fun\, we hope you come join us for a day on the slopes this winter!
URL:https://wyldblu.com/events/apres-ski-plattekill-mountain/
LOCATION:Plattekill Mountain Resort\, 469 Plattekill Road\, Roxbury\, NY\, 12474
END:VEVENT
BEGIN:VEVENT
DTSTART;TZID=America/New_York:20240119T180000
DTEND;TZID=America/New_York:20240119T210000
DTSTAMP:20260423T075036
CREATED:20231129T142625Z
LAST-MODIFIED:20231129T142625Z
UID:3157-1705687200-1705698000@wyldblu.com
SUMMARY:BLU X2: Blues 'n Brews @The Run
DESCRIPTION:Sit back\, relax and enjoy! An intimate evening of acoustic blues\, rhythm and grooves.. relax creekside\, indulge in s’mores by the fire pit… open-air and outdoor dining and delicious home style fare\, drink specials!! Family Friendly\, fun and good times for all!
URL:https://wyldblu.com/events/blu-x2-blues-n-brews-the-run-2/
LOCATION:Chicken Run Family Restaurant & Steakhouse\, 5639 State Route 23\, Windham NY\, 12496\, United States
END:VEVENT
BEGIN:VEVENT
DTSTART;TZID=America/New_York:20240118T200000
DTEND;TZID=America/New_York:20240118T220000
DTSTAMP:20260423T075036
CREATED:20231129T142420Z
LAST-MODIFIED:20231129T142420Z
UID:3155-1705608000-1705615200@wyldblu.com
SUMMARY:BLU X2 @ Taphouse & Grille
DESCRIPTION:BLUX2 @ TapHouse & Grille – serving up a bluesy stew and a fist full of rock and roll! Enjoy an extensive selection of craft beers\, wines & spirits\, fab menu + good times.Alana Wyld
URL:https://wyldblu.com/events/blu-x2-taphouse-grille-3/
LOCATION:The Taphouse & Grille\, 5359 Main Street\, Windham\, NY\, 12496
END:VEVENT
BEGIN:VEVENT
DTSTART;TZID=America/New_York:20240104T180000
DTEND;TZID=America/New_York:20240104T200000
DTSTAMP:20260423T075036
CREATED:20231129T142152Z
LAST-MODIFIED:20231129T142152Z
UID:3153-1704391200-1704398400@wyldblu.com
SUMMARY:Alana Wyld: Solo Blu @ The Run
DESCRIPTION:An intimate evening of acoustic blues\, rhythm and grooves.. relax\, creek and mountain views\, indulge in s’mores by the fire pit… open-air and outdoor dining and delicious home style fare\, drink specials!! Family Friendly\, fun and good times for all!
URL:https://wyldblu.com/events/alana-wyld-solo-blu-the-run-2/
LOCATION:Chicken Run Family Restaurant & Steakhouse\, 5639 State Route 23\, Windham NY\, 12496\, United States
END:VEVENT
BEGIN:VEVENT
DTSTART;TZID=America/New_York:20231229T150000
DTEND;TZID=America/New_York:20231229T180000
DTSTAMP:20260423T075036
CREATED:20231208T124828Z
LAST-MODIFIED:20231208T124828Z
UID:3176-1703862000-1703872800@wyldblu.com
SUMMARY:Aprés-Ski @ Plattekill Mountain
DESCRIPTION:Aprés-Ski the Wyld way! Acoustic live blues ‘n brews\, incredible mountain views\, great food\, bar specials and more.. \nFiercely independent\, a real family mountain! Plattekill offers an authentic mountain vibe and a unique atmosphere that simply can’t be experienced at larger resorts.  If you are looking for a true family mountain\, you’ve found it.  Plattekill offers 39 trails and terrain for all abilities – Located in the Northwestern Catskills of New York\, home to skiing\, snowboarding and snow tubing fun\, we hope you come join us for a day on the slopes this winter!
URL:https://wyldblu.com/events/apres-ski-plattekill-mountain-2/
LOCATION:Plattekill Mountain Resort\, 469 Plattekill Road\, Roxbury\, NY\, 12474
END:VEVENT
BEGIN:VEVENT
DTSTART;TZID=America/New_York:20231221T200000
DTEND;TZID=America/New_York:20231221T220000
DTSTAMP:20260423T075036
CREATED:20231116T210651Z
LAST-MODIFIED:20231116T210651Z
UID:3050-1703188800-1703196000@wyldblu.com
SUMMARY:BLU X2 @ Taphouse & Grille
DESCRIPTION:BLUX2 @ TapHouse & Grille – serving up a bluesy stew and a fist full of rock and roll! Enjoy an extensive selection of craft beers\, wines & spirits\, fab menu + good times.
URL:https://wyldblu.com/events/blu-x2-taphouse-grille-2/
LOCATION:The Taphouse & Grille\, 5359 Main Street\, Windham\, NY\, 12496
END:VEVENT
BEGIN:VEVENT
DTSTART;TZID=America/New_York:20231216T190000
DTEND;TZID=America/New_York:20231216T210000
DTSTAMP:20260423T075036
CREATED:20231116T210500Z
LAST-MODIFIED:20231116T210500Z
UID:3047-1702753200-1702760400@wyldblu.com
SUMMARY:SOLO BLU @ Windham Local Public House
DESCRIPTION:An intimate evening of live acoustic blues. Eddie Music Award Winner Blues Artist of the Year – Alana will be servin’ up her blues with a generous side order of rhythm\, heart and soul. Her menu is rich\, reflecting a variety of influences from classic and Texas blues\, boogie\, R&B – even a splash of bluegrass and country flavors. Got a taste for great live music? Bring your appetite\, a smile and enjoy! \nThe Windham Local is a community-oriented cafe\, restaurant and bar located in beautiful downtown Windham\, NY. Our menu highlights fresh ingredients from local farms. We serve premium coffee and espresso drinks and fresh pastries\, baked daily. Our lunch and dinner menus are filled with creative comfort food perfect to enjoy with our wide selection of local beer\, wine and non-alcoholic beverages.
URL:https://wyldblu.com/events/solo-blu-windham-local-public-house/
LOCATION:Windham Local Public House\, 5410 NY-23 MAIN STREET\, WINDHAM\, NY\, 12496
END:VEVENT
BEGIN:VEVENT
DTSTART;TZID=America/New_York:20231209T180000
DTEND;TZID=America/New_York:20231209T210000
DTSTAMP:20260423T075036
CREATED:20231116T210224Z
LAST-MODIFIED:20231116T210224Z
UID:3045-1702144800-1702155600@wyldblu.com
SUMMARY:BLU X2: Blues 'n Brews @The Run
DESCRIPTION:Sit back\, relax and enjoy! An intimate evening of acoustic blues\, rhythm and grooves.. relax creekside\, indulge in s’mores by the fire pit… open-air and outdoor dining and delicious home style fare\, drink specials!! Family Friendly\, fun and good times for all!
URL:https://wyldblu.com/events/blu-x2-blues-n-brews-the-run/
LOCATION:Chicken Run Family Restaurant & Steakhouse\, 5639 State Route 23\, Windham NY\, 12496\, United States
END:VEVENT
BEGIN:VEVENT
DTSTART;TZID=America/New_York:20231208T200000
DTEND;TZID=America/New_York:20231208T230000
DTSTAMP:20260423T075036
CREATED:20231115T155825Z
LAST-MODIFIED:20231115T155825Z
UID:2959-1702065600-1702076400@wyldblu.com
SUMMARY:PRO JAM #36 COLONY WOODSTOCK
DESCRIPTION:PJ 36 will kick off with the House Band playing a set.\nThe House Band is Willa Vincitore\, Karl Allweier\, Ross Rice\, Steven Kirsty\, Vince Leggiere\, and Sonny Rock.  \nSpecial guest & PJ MC Wyld Blu will join the House Band for a few tunes\, and then we’ll open it up to all musicians.\nSign-ups are at 7 pm\, show starts at 8 pm.
URL:https://wyldblu.com/events/pro-jam-36-colony-woodstock/
LOCATION:Colony Woodstock\, 22 ROCK CITY ROAD\, WOODSTOCK\, NY\, 12498
END:VEVENT
BEGIN:VEVENT
DTSTART;TZID=America/New_York:20231130T180000
DTEND;TZID=America/New_York:20231130T200000
DTSTAMP:20260423T075036
CREATED:20231115T134041Z
LAST-MODIFIED:20231115T134041Z
UID:2859-1701367200-1701374400@wyldblu.com
SUMMARY:Alana Wyld: Solo Blu @ The Run
DESCRIPTION:An intimate evening of acoustic blues\, rhythm and grooves.. relax\, creek and mountain views\, indulge in s’mores by the fire pit… open-air and outdoor dining and delicious home style fare\, drink specials!! Family Friendly\, fun and good times for all!
URL:https://wyldblu.com/events/alana-wyld-solo-blu-the-run/
LOCATION:Chicken Run Family Restaurant & Steakhouse\, 5639 State Route 23\, Windham NY\, 12496\, United States
ATTACH;FMTTYPE=image/jpeg:https://wyldblu.com/wp-content/uploads/2021/12/ALANA-WYLD-SOLO-BLU.jpg
END:VEVENT
BEGIN:VEVENT
DTSTART;TZID=America/New_York:20231125T150000
DTEND;TZID=America/New_York:20231125T180000
DTSTAMP:20260423T075036
CREATED:20231115T151122Z
LAST-MODIFIED:20231115T151129Z
UID:2951-1700924400-1700935200@wyldblu.com
SUMMARY:WYLD BLU Band @ Rockland Cider Works
DESCRIPTION:WYLD BLU Band @ Rockland Cider Works – serving up a bluesy stew and a fist full of rock and roll! Kick off the holiday weekend with an afternoon of live music\, great food from High On The Hog Catering and fun with friends \nEnjoy local hard cider made with 100% NY State apples + locally produced craft beers\, wines & spirits\, charcuterie\, fab food truck + fun fun fun!
URL:https://wyldblu.com/events/wyld-blu-band-rockland-cider-works/
LOCATION:Rockland Cider Works\, 201 Stryker Rd\, Gilboa\, NY\, 12076
END:VEVENT
BEGIN:VEVENT
DTSTART;TZID=America/New_York:20231116T200000
DTEND;TZID=America/New_York:20231116T220000
DTSTAMP:20260423T075036
CREATED:20231115T134736Z
LAST-MODIFIED:20231115T134736Z
UID:2945-1700164800-1700172000@wyldblu.com
SUMMARY:BLU X2 @ Taphouse & Grille
DESCRIPTION:BLUX2 @ TapHouse & Grille – serving up a bluesy stew and a fist full of rock and roll! Enjoy an extensive selection of craft beers\, wines & spirits\, fab menu + fun fun fun!!
URL:https://wyldblu.com/events/blu-x2-taphouse-grille/
LOCATION:The Taphouse & Grille\, 5359 Main Street\, Windham\, NY\, 12496
END:VEVENT
BEGIN:VEVENT
DTSTART;TZID=America/New_York:20231028T170000
DTEND;TZID=America/New_York:20231028T200000
DTSTAMP:20260423T075036
CREATED:20231118T135152Z
LAST-MODIFIED:20231118T135152Z
UID:3123-1698512400-1698523200@wyldblu.com
SUMMARY:Private Event
DESCRIPTION:Private Event
URL:https://wyldblu.com/events/private-event/
LOCATION:Private Event\, Leeds NY\, Leeds\, NY
END:VEVENT
BEGIN:VEVENT
DTSTART;TZID=America/New_York:20231022T150000
DTEND;TZID=America/New_York:20231022T190000
DTSTAMP:20260423T075036
CREATED:20231118T135443Z
LAST-MODIFIED:20231118T135443Z
UID:3125-1697986800-1698001200@wyldblu.com
SUMMARY:The Forge Harvest Festival
DESCRIPTION:BLU X2 –  Closing out the season with a FALL HARVEST & HALLOWEEN CELEBRATION – special kids activities\, pumpkin painting and more – plus all of the wonderful local vendors\, food\, craft beer\, wine & spirits\, fresh produce\, baked goods\, artisans\, Live Music + More! \nCome. Enjoy!\nShinglekill Falls Farmer’s Market • Mondays thru October\n500 Mountain Avenue Purling\, NY \npsst: dog friendly\, family friendly activities\, spacious outdoor dining\, plenty of parking\, pristine historical country setting along the creek and magnificent waterfall. 
URL:https://wyldblu.com/events/the-forge-harvest-festival/
LOCATION:Shinglekill Falls Farmer’s Market\, 500 Mountain Avenue\, Purling\, NY\, 12470
END:VEVENT
BEGIN:VEVENT
DTSTART;TZID=America/New_York:20231012T180000
DTEND;TZID=America/New_York:20231012T200000
DTSTAMP:20260423T075036
CREATED:20231118T135947Z
LAST-MODIFIED:20231118T135947Z
UID:3131-1697133600-1697140800@wyldblu.com
SUMMARY:SOLO BLU @ The Run
DESCRIPTION:An intimate evening of acoustic blues\, rhythm and grooves.. relax creekside\, indulge in s’mores by the fire pit… open-air and outdoor dining and delicious home style fare\, drink specials!! Family Friendly\, fun and good times for all!
URL:https://wyldblu.com/events/solo-blu-the-run/
LOCATION:Chicken Run Family Restaurant & Steakhouse\, 5639 State Route 23\, Windham NY\, 12496\, United States
END:VEVENT
BEGIN:VEVENT
DTSTART;TZID=America/New_York:20231008T120000
DTEND;TZID=America/New_York:20231008T170000
DTSTAMP:20260423T075036
CREATED:20231117T220650Z
LAST-MODIFIED:20231117T220650Z
UID:3101-1696766400-1696784400@wyldblu.com
SUMMARY:WYLD BLU @ HUNTER MOUNTAIN OKTOBERFEST
DESCRIPTION:Fall is back in action at Hunter! FREE ADMISSION – Live entertainment\, food\, brews and vendors in the beauty of the Great Northern Catskills surrounded by lush fall foliage. WYLD BLU kicks off at 12N on the Samuel Adam’s Main Stage!
URL:https://wyldblu.com/events/wyld-blu-hunter-mountain-oktoberfest/
LOCATION:Hunter Mountain\, Hunter\, NY
END:VEVENT
BEGIN:VEVENT
DTSTART;TZID=America/New_York:20231007T173000
DTEND;TZID=America/New_York:20231007T193000
DTSTAMP:20260423T075036
CREATED:20231118T135826Z
LAST-MODIFIED:20231118T135826Z
UID:3129-1696699800-1696707000@wyldblu.com
SUMMARY:Private Event
DESCRIPTION:Private Event
URL:https://wyldblu.com/events/private-event-2/
LOCATION:Private Event\, Leeds NY\, Leeds\, NY
END:VEVENT
BEGIN:VEVENT
DTSTART;TZID=America/New_York:20231006T200000
DTEND;TZID=America/New_York:20231006T230000
DTSTAMP:20260423T075036
CREATED:20231118T135722Z
LAST-MODIFIED:20231118T135722Z
UID:3127-1696622400-1696633200@wyldblu.com
SUMMARY:PRO JAM #35 COLONY WOODSTOCK
DESCRIPTION:A NIGHT OF THE REGION’S BEST BLUES MUSICIANS! —  AND DOZENS OF HUDSON VALLEY PRO TOURING MUSICIANS!\nYour host and MC\, Alana Wyld
URL:https://wyldblu.com/events/pro-jam-35-colony-woodstock/
LOCATION:Colony Woodstock\, 22 ROCK CITY ROAD\, WOODSTOCK\, NY\, 12498
END:VEVENT
BEGIN:VEVENT
DTSTART;TZID=America/New_York:20231002T160000
DTEND;TZID=America/New_York:20231002T190000
DTSTAMP:20260423T075036
CREATED:20231117T221019Z
LAST-MODIFIED:20231117T221019Z
UID:3104-1696262400-1696273200@wyldblu.com
SUMMARY:BLU X2 @ SHINGLEKILL FALLS
DESCRIPTION:BLU X2: A Wyld acoustic duo serving up a Bluesy stew mixed with a splash of Country\n— and a fist full of Rock & Roll.  \nCome. Enjoy! Local vendors\, food\, craft beer\, wine & spirits\, fresh produce\, baked goods\, artisans\, Live Music + More!\nShinglekill Falls Market Mondays • Mondays thru Halloween\n500 Mountain Avenue Purling\, NY \npsst: dog friendly\, family friendly activities\, spacious outdoor dining\, plenty of parking\, pristine historical country setting along the creek and magnificent waterfall. 
URL:https://wyldblu.com/events/blu-x2-shinglekill-falls/
LOCATION:Shinglekill Falls Farmer’s Market\, 500 Mountain Avenue\, Purling\, NY\, 12470
END:VEVENT
END:VCALENDAR