BEGIN:VCALENDAR
VERSION:2.0
PRODID:-//Wyld Blu - ECPv6.15.20//NONSGML v1.0//EN
CALSCALE:GREGORIAN
METHOD:PUBLISH
X-WR-CALNAME:Wyld Blu
X-ORIGINAL-URL:https://wyldblu.com
X-WR-CALDESC:Events for Wyld Blu
REFRESH-INTERVAL;VALUE=DURATION:PT1H
X-Robots-Tag:noindex
X-PUBLISHED-TTL:PT1H
BEGIN:VTIMEZONE
TZID:America/New_York
BEGIN:DAYLIGHT
TZOFFSETFROM:-0500
TZOFFSETTO:-0400
TZNAME:EDT
DTSTART:20230312T070000
END:DAYLIGHT
BEGIN:STANDARD
TZOFFSETFROM:-0400
TZOFFSETTO:-0500
TZNAME:EST
DTSTART:20231105T060000
END:STANDARD
BEGIN:DAYLIGHT
TZOFFSETFROM:-0500
TZOFFSETTO:-0400
TZNAME:EDT
DTSTART:20240310T070000
END:DAYLIGHT
BEGIN:STANDARD
TZOFFSETFROM:-0400
TZOFFSETTO:-0500
TZNAME:EST
DTSTART:20241103T060000
END:STANDARD
BEGIN:DAYLIGHT
TZOFFSETFROM:-0500
TZOFFSETTO:-0400
TZNAME:EDT
DTSTART:20250309T070000
END:DAYLIGHT
BEGIN:STANDARD
TZOFFSETFROM:-0400
TZOFFSETTO:-0500
TZNAME:EST
DTSTART:20251102T060000
END:STANDARD
END:VTIMEZONE
BEGIN:VEVENT
DTSTART;TZID=America/New_York:20240203T150000
DTEND;TZID=America/New_York:20240203T180000
DTSTAMP:20260425T233300
CREATED:20231129T143418Z
LAST-MODIFIED:20231129T143418Z
UID:3159-1706972400-1706983200@wyldblu.com
SUMMARY:Aprés-Ski @ Plattekill Mountain
DESCRIPTION:Aprés-Ski the Wyld way! Acoustic live blues ‘n brews\, incredible mountain views\, great food\, bar specials and more.. \nFiercely independent\, a real family mountain! Plattekill offers an authentic mountain vibe and a unique atmosphere that simply can’t be experienced at larger resorts.  If you are looking for a true family mountain\, you’ve found it.  Plattekill offers 39 trails and terrain for all abilities – Located in the Northwestern Catskills of New York\, home to skiing\, snowboarding and snow tubing fun\, we hope you come join us for a day on the slopes this winter!
URL:https://wyldblu.com/events/apres-ski-plattekill-mountain/
LOCATION:Plattekill Mountain Resort\, 469 Plattekill Road\, Roxbury\, NY\, 12474
END:VEVENT
BEGIN:VEVENT
DTSTART;TZID=America/New_York:20240210T190000
DTEND;TZID=America/New_York:20240210T210000
DTSTAMP:20260425T233300
CREATED:20231129T143603Z
LAST-MODIFIED:20231129T143603Z
UID:3162-1707591600-1707598800@wyldblu.com
SUMMARY:SOLO BLU @ Windham Local Public House
DESCRIPTION:An intimate evening of live acoustic blues. Eddie Music Award Winner Blues Artist of the Year – Alana will be servin’ up her blues with a generous side order of rhythm\, heart and soul. Her menu is rich\, reflecting a variety of influences from classic and Texas blues\, boogie\, R&B – even a splash of bluegrass and country flavors. Got a taste for great live music? Bring your appetite\, a smile and enjoy! \nThe Windham Local is a community-oriented cafe\, restaurant and bar located in beautiful downtown Windham\, NY. Our menu highlights fresh ingredients from local farms. We serve premium coffee and espresso drinks and fresh pastries\, baked daily. Our lunch and dinner menus are filled with creative comfort food perfect to enjoy with our wide selection of local beer\, wine and non-alcoholic beverages.
URL:https://wyldblu.com/events/solo-blu-windham-local-public-house-2/
LOCATION:Windham Local Public House\, 5410 NY-23 MAIN STREET\, WINDHAM\, NY\, 12496
END:VEVENT
BEGIN:VEVENT
DTSTART;TZID=America/New_York:20240215T200000
DTEND;TZID=America/New_York:20240215T230000
DTSTAMP:20260425T233300
CREATED:20231212T205843Z
LAST-MODIFIED:20231212T205843Z
UID:3190-1708027200-1708038000@wyldblu.com
SUMMARY:PRO JAM #37 COLONY WOODSTOCK
DESCRIPTION:A NIGHT OF THE REGION’S BEST BLUES MUSICIANS AND DOZENS OF HUDSON VALLEY PRO TOURING MUSICIANS!\nPJ 37 will kick off with the House Band playing a set\, then the floor opens up to join in the Pro Jam!\nThe House Band TBA!! \nSpecial guest & MC Wyld Blu will join the House Band for a few tunes\, and then we’ll open it up to all musicians.\nSign-ups are at 7 pm\, show starts at 8 pm.
URL:https://wyldblu.com/events/pro-jam-37-colony-woodstock/
LOCATION:Colony Woodstock\, 22 ROCK CITY ROAD\, WOODSTOCK\, NY\, 12498
END:VEVENT
BEGIN:VEVENT
DTSTART;TZID=America/New_York:20240216T180000
DTEND;TZID=America/New_York:20240216T210000
DTSTAMP:20260425T233301
CREATED:20231129T143745Z
LAST-MODIFIED:20231129T143745Z
UID:3164-1708106400-1708117200@wyldblu.com
SUMMARY:BLU X2: Blues 'n Brews @The Run
DESCRIPTION:Sit back\, relax and enjoy! An intimate evening of acoustic blues\, rhythm and grooves.. relax creekside\, indulge in s’mores by the fire pit… open-air and outdoor dining and delicious home style fare\, drink specials!! Family friendly\, fun and good times for all!
URL:https://wyldblu.com/events/blu-x2-blues-n-brews-the-run-3/
LOCATION:Chicken Run Family Restaurant & Steakhouse\, 5639 State Route 23\, Windham NY\, 12496\, United States
END:VEVENT
BEGIN:VEVENT
DTSTART;TZID=America/New_York:20240224T200000
DTEND;TZID=America/New_York:20240224T230000
DTSTAMP:20260425T233301
CREATED:20231129T144721Z
LAST-MODIFIED:20231129T144721Z
UID:3168-1708804800-1708815600@wyldblu.com
SUMMARY:WYLD BLU @ Last Chance Tavern
DESCRIPTION:Alana Wyld & Wyld Blu @ the historic Last Chance Tavern – fab food\, full bar & fun fun fun! \n\n\n\n\n\n\n\n\nServing lunch & dinner since 1971.  With a variety of options from steaks to salads\, kids menu\, gluten free and vegetarian options.\nFull bar\, serving over 300 beers\, 100+ whiskeys\, extensive wine list. 
URL:https://wyldblu.com/events/wyld-blu-last-chance-tavern/
LOCATION:Last Chance Tavern\, 6009 Main Street\, Tannersville\, NY\, 12485
END:VEVENT
BEGIN:VEVENT
DTSTART;TZID=America/New_York:20240229T180000
DTEND;TZID=America/New_York:20240229T210000
DTSTAMP:20260425T233301
CREATED:20231129T143850Z
LAST-MODIFIED:20231129T143850Z
UID:3166-1709229600-1709240400@wyldblu.com
SUMMARY:Alana Wyld: Solo Blu @ The Run
DESCRIPTION:An intimate evening of acoustic blues\, rhythm and grooves.. relax\, creek and mountain views\, indulge in s’mores by the fire pit… open-air and outdoor dining and delicious home style fare\, drink specials!! Family Friendly\, fun and good times for all!
URL:https://wyldblu.com/events/alana-wyld-solo-blu-the-run-3/
LOCATION:Chicken Run Family Restaurant & Steakhouse\, 5639 State Route 23\, Windham NY\, 12496\, United States
END:VEVENT
END:VCALENDAR