BEGIN:VCALENDAR
VERSION:2.0
PRODID:-//Wyld Blu - ECPv6.15.20//NONSGML v1.0//EN
CALSCALE:GREGORIAN
METHOD:PUBLISH
X-WR-CALNAME:Wyld Blu
X-ORIGINAL-URL:https://wyldblu.com
X-WR-CALDESC:Events for Wyld Blu
REFRESH-INTERVAL;VALUE=DURATION:PT1H
X-Robots-Tag:noindex
X-PUBLISHED-TTL:PT1H
BEGIN:VTIMEZONE
TZID:America/New_York
BEGIN:DAYLIGHT
TZOFFSETFROM:-0500
TZOFFSETTO:-0400
TZNAME:EDT
DTSTART:20230312T070000
END:DAYLIGHT
BEGIN:STANDARD
TZOFFSETFROM:-0400
TZOFFSETTO:-0500
TZNAME:EST
DTSTART:20231105T060000
END:STANDARD
BEGIN:DAYLIGHT
TZOFFSETFROM:-0500
TZOFFSETTO:-0400
TZNAME:EDT
DTSTART:20240310T070000
END:DAYLIGHT
BEGIN:STANDARD
TZOFFSETFROM:-0400
TZOFFSETTO:-0500
TZNAME:EST
DTSTART:20241103T060000
END:STANDARD
BEGIN:DAYLIGHT
TZOFFSETFROM:-0500
TZOFFSETTO:-0400
TZNAME:EDT
DTSTART:20250309T070000
END:DAYLIGHT
BEGIN:STANDARD
TZOFFSETFROM:-0400
TZOFFSETTO:-0500
TZNAME:EST
DTSTART:20251102T060000
END:STANDARD
END:VTIMEZONE
BEGIN:VEVENT
DTSTART;TZID=America/New_York:20240705T180000
DTEND;TZID=America/New_York:20240705T210000
DTSTAMP:20260425T141134
CREATED:20240202T153043Z
LAST-MODIFIED:20240514T154633Z
UID:3311-1720202400-1720213200@wyldblu.com
SUMMARY:Red\, White 'n Blu @ The Run
DESCRIPTION:WYLD BLU Band on the outdoor stage – serving up a bluesy stew and a fist full of rock and roll!\nReservations are suggested for groups over 4. \nEat\, Drink\, Dance and Have a Blast! Tantalizing Starters – Homemade Soups & Fresh Salads \nBBQ Ribs\, Chicken\, Chicken\, Chicken • Classic Burgers & Sandwiches • Awesome Steaks • Satisfying Homemade Entrees (leftovers almost guaranteed) • Insane Desserts • \nFull Service Bar • Craft Brews • Fabulous cocktails\, tasty Mules & Martini’s • Ciders\, Seltzers and awesome drink specials
URL:https://wyldblu.com/events/red-white-n-blu-the-run/
LOCATION:Chicken Run Family Restaurant & Steakhouse\, 5639 State Route 23\, Windham NY\, 12496\, United States
END:VEVENT
BEGIN:VEVENT
DTSTART;TZID=America/New_York:20240706T170000
DTEND;TZID=America/New_York:20240706T190000
DTSTAMP:20260425T141134
CREATED:20240107T174637Z
LAST-MODIFIED:20240107T174758Z
UID:3256-1720285200-1720292400@wyldblu.com
SUMMARY:SOLO BLU: Real Maine Lobster Bake
DESCRIPTION:Live Music@ The Theatre Garden!!  Here comes another deliciously good Real Maine Lobster Bake season! \nWindham’s Real Maine Lobster Bake is Saturday from 5-7 p.m. Fresh Lobster is shipped overnight from the ocean waters of Maine!\nPrepared at our state-of-the-art outdoor seafood kitchen\, Real Maine Lobster Bake features live Maine lobster\, fresh shrimp\, corn on the cob\, slaw\, the best barbecue and new this year Fried Fresh Seafood Baskets – Takeouts available or eat at tables or in tents on our spacious stream side garden behind the Windham Theatre.\nLive Music\, 18 hole mini golf\, ice cream\, games and fun for all ages! \n– YOU MUST PRE-ORDER BY WEDNESDAY 9PM PRIOR – You can reserve your dinners today\, with online ordering:\nhttps://realmainelobsterbake.square.site/ \n 
URL:https://wyldblu.com/events/solo-blu-real-maine-lobster-bake/
LOCATION:Windham Theatre\, 11 Vets Road\, Windham\, NY\, 12496
END:VEVENT
BEGIN:VEVENT
DTSTART;TZID=America/New_York:20240712T180000
DTEND;TZID=America/New_York:20240712T200000
DTSTAMP:20260425T141134
CREATED:20240311T160007Z
LAST-MODIFIED:20240313T144847Z
UID:3338-1720807200-1720814400@wyldblu.com
SUMMARY:WYLD BLU @ Red Hook Villlage Green
DESCRIPTION:WYLD BLU BAND\nFREE Summer Concert at Red Hook Village Green – bring your lawn chairs\, picnic lunch and relax and enjoy!!
URL:https://wyldblu.com/events/wyld-blu-red-hook-villlage-green/
LOCATION:Red Hook Village Green\, 7508 N Broadway St\, Red Hook\, NY
END:VEVENT
BEGIN:VEVENT
DTSTART;TZID=America/New_York:20240715T160000
DTEND;TZID=America/New_York:20240715T190000
DTSTAMP:20260425T141134
CREATED:20240311T151809Z
LAST-MODIFIED:20240311T151809Z
UID:3319-1721059200-1721070000@wyldblu.com
SUMMARY:BLUX2: Shinglekill Falls Farmer’s Market
DESCRIPTION:Market Mondays with BLUX2  – serving up a bluesy stew and a fist full of rock and roll! \nScenic Shinglekill Falls\, family and pet-friendly\, awesome local artisans\, crafts\, gifts\, food and fun for all. \nJUNE 17 • JULY 15 • AUG 19 • SEPT 16\n( 4-7PM • THIRD MONDAY EACH MONTH ) \nLIVE MUSIC • FAB FOOD TRUCKS\nCRAFT BREWS & BEVERAGES • FRESH PRODUCE\nCHOICE MEATS • BAKED GOODS & DESSERTS\nHONEY • FLOWERS • LOCAL ARTISANS\nGIFTS • CRAFTS • JEWELRY • MORE!
URL:https://wyldblu.com/events/blux2-shinglekill-falls-farmers-market/
LOCATION:Shinglekill Falls Farmer’s Market\, 500 Mountain Avenue\, Purling\, NY\, 12470
END:VEVENT
BEGIN:VEVENT
DTSTART;TZID=America/New_York:20240718T200000
DTEND;TZID=America/New_York:20240718T220000
DTSTAMP:20260425T141134
CREATED:20240328T000852Z
LAST-MODIFIED:20240328T000852Z
UID:3352-1721332800-1721340000@wyldblu.com
SUMMARY:BLU X2 @ Taphouse & Grille
DESCRIPTION:BLUX2 @ TapHouse & Grille – serving up a bluesy stew and a fist full of rock and roll! Enjoy an extensive selection of craft beers\, wines & spirits\, fab menu + good times.
URL:https://wyldblu.com/events/blu-x2-taphouse-grille-8/
LOCATION:The Taphouse & Grille\, 5359 Main Street\, Windham\, NY\, 12496
END:VEVENT
BEGIN:VEVENT
DTSTART;TZID=America/New_York:20240725T180000
DTEND;TZID=America/New_York:20240725T200000
DTSTAMP:20260425T141134
CREATED:20240409T164314Z
LAST-MODIFIED:20240409T164314Z
UID:3391-1721930400-1721937600@wyldblu.com
SUMMARY:Alana Wyld: SOLO BLU @ The Run
DESCRIPTION:An intimate evening of acoustic blues\, rhythm and grooves.. relax\, creek and mountain views\, indulge in s’mores by the fire pit… open-air and outdoor dining and delicious home style fare\, drink specials!! Family Friendly\, fun and good times for all!
URL:https://wyldblu.com/events/alana-wyld-solo-blu-the-run-6/
LOCATION:Chicken Run Family Restaurant & Steakhouse\, 5639 State Route 23\, Windham NY\, 12496\, United States
CATEGORIES:Live Music
END:VEVENT
END:VCALENDAR