BEGIN:VCALENDAR
VERSION:2.0
PRODID:-//Wyld Blu - ECPv6.15.20//NONSGML v1.0//EN
CALSCALE:GREGORIAN
METHOD:PUBLISH
X-WR-CALNAME:Wyld Blu
X-ORIGINAL-URL:https://wyldblu.com
X-WR-CALDESC:Events for Wyld Blu
REFRESH-INTERVAL;VALUE=DURATION:PT1H
X-Robots-Tag:noindex
X-PUBLISHED-TTL:PT1H
BEGIN:VTIMEZONE
TZID:America/New_York
BEGIN:DAYLIGHT
TZOFFSETFROM:-0500
TZOFFSETTO:-0400
TZNAME:EDT
DTSTART:20240310T070000
END:DAYLIGHT
BEGIN:STANDARD
TZOFFSETFROM:-0400
TZOFFSETTO:-0500
TZNAME:EST
DTSTART:20241103T060000
END:STANDARD
BEGIN:DAYLIGHT
TZOFFSETFROM:-0500
TZOFFSETTO:-0400
TZNAME:EDT
DTSTART:20250309T070000
END:DAYLIGHT
BEGIN:STANDARD
TZOFFSETFROM:-0400
TZOFFSETTO:-0500
TZNAME:EST
DTSTART:20251102T060000
END:STANDARD
BEGIN:DAYLIGHT
TZOFFSETFROM:-0500
TZOFFSETTO:-0400
TZNAME:EDT
DTSTART:20260308T070000
END:DAYLIGHT
BEGIN:STANDARD
TZOFFSETFROM:-0400
TZOFFSETTO:-0500
TZNAME:EST
DTSTART:20261101T060000
END:STANDARD
END:VTIMEZONE
BEGIN:VEVENT
DTSTART;TZID=America/New_York:20250102T200000
DTEND;TZID=America/New_York:20250102T220000
DTSTAMP:20260423T033220
CREATED:20241121T171131Z
LAST-MODIFIED:20241121T171131Z
UID:3489-1735848000-1735855200@wyldblu.com
SUMMARY:BLU X2: The Tap House Grille
DESCRIPTION:BLU X2: The Tap House Grille – Tavern & Restaurant\, serving up classic and modern pub faves\, local craft brews\, drink specials and a smile.\nCome on out for some fun with friends!!
URL:https://wyldblu.com/events/blu-x2-the-tap-house-grille-5/
LOCATION:The Taphouse & Grille\, 5359 Main Street\, Windham\, NY\, 12496
END:VEVENT
BEGIN:VEVENT
DTSTART;TZID=America/New_York:20250103T150000
DTEND;TZID=America/New_York:20250103T180000
DTSTAMP:20260423T033220
CREATED:20241202T162720Z
LAST-MODIFIED:20241202T162720Z
UID:3502-1735916400-1735927200@wyldblu.com
SUMMARY:WYLD BLU @ WINDHAM MOUNTAIN LODGE
DESCRIPTION:WYLD BLU BAND @ Windham Mountain Lodge\nApre-ski or just come by the Lodge @ Windham Mountain Club for great food\, drink\, live music on the main stage. Wear your dancin’ shoes and join us for a fab afternoon on the beautiful slopes. \n19 Resort Drive\, Windham\, NY 12496\nInformation.  800-754-9463. / 518-734-4300.
URL:https://wyldblu.com/events/wyld-blu-windham-mountain-lodge/
LOCATION:Windham Mountain Lodge\, 19 Resort Drive\, Windham\, NY\, 12496
END:VEVENT
BEGIN:VEVENT
DTSTART;TZID=America/New_York:20250109T180000
DTEND;TZID=America/New_York:20250109T200000
DTSTAMP:20260423T033220
CREATED:20241010T145633Z
LAST-MODIFIED:20241010T145633Z
UID:3481-1736445600-1736452800@wyldblu.com
SUMMARY:Solo Blu @ The Run
DESCRIPTION:Solo Blu @ The Run’s awesome Tavern –  dinner & drink specials\, live music\, Thurs night fun @ the Run!
URL:https://wyldblu.com/events/solo-blu-the-run-4/
LOCATION:Chicken Run Family Restaurant & Steakhouse\, 5639 State Route 23\, Windham NY\, 12496\, United States
CATEGORIES:Live Music
END:VEVENT
BEGIN:VEVENT
DTSTART;TZID=America/New_York:20250125T130000
DTEND;TZID=America/New_York:20250125T160000
DTSTAMP:20260423T033220
CREATED:20241121T174136Z
LAST-MODIFIED:20250127T171557Z
UID:3491-1737810000-1737820800@wyldblu.com
SUMMARY:BLU @ Bearpen Mountain Lodge
DESCRIPTION:Apre-ski or just come by the Lodge for a great afternoon of live acoustic bluesy-stew – rock\, country and more at scenic Bearpen Mountain Lodge – They have endless options for those looking for alternative winter sports activities or just a place to relax and unwind! Welcoming and warm\, it is dog-friendly as well!\nBearpen hosts local businesses and breweries – Truly a Catskills gem! Head to Bearpen for a feel-good\, fun day! \n1491 County Road 2\, Prattsville\, NY 12468\n(518) 299-0011
URL:https://wyldblu.com/events/blu-bearpen-mountain-lodge-2/
LOCATION:Bearpen Mountain Lodge\, 1491 County Road 2\, Prattsville\, NY\, 12468
END:VEVENT
END:VCALENDAR