BEGIN:VCALENDAR
VERSION:2.0
PRODID:-//Wyld Blu - ECPv6.15.20//NONSGML v1.0//EN
CALSCALE:GREGORIAN
METHOD:PUBLISH
X-ORIGINAL-URL:https://wyldblu.com
X-WR-CALDESC:Events for Wyld Blu
REFRESH-INTERVAL;VALUE=DURATION:PT1H
X-Robots-Tag:noindex
X-PUBLISHED-TTL:PT1H
BEGIN:VTIMEZONE
TZID:America/New_York
BEGIN:DAYLIGHT
TZOFFSETFROM:-0500
TZOFFSETTO:-0400
TZNAME:EDT
DTSTART:20240310T070000
END:DAYLIGHT
BEGIN:STANDARD
TZOFFSETFROM:-0400
TZOFFSETTO:-0500
TZNAME:EST
DTSTART:20241103T060000
END:STANDARD
BEGIN:DAYLIGHT
TZOFFSETFROM:-0500
TZOFFSETTO:-0400
TZNAME:EDT
DTSTART:20250309T070000
END:DAYLIGHT
BEGIN:STANDARD
TZOFFSETFROM:-0400
TZOFFSETTO:-0500
TZNAME:EST
DTSTART:20251102T060000
END:STANDARD
BEGIN:DAYLIGHT
TZOFFSETFROM:-0500
TZOFFSETTO:-0400
TZNAME:EDT
DTSTART:20260308T070000
END:DAYLIGHT
BEGIN:STANDARD
TZOFFSETFROM:-0400
TZOFFSETTO:-0500
TZNAME:EST
DTSTART:20261101T060000
END:STANDARD
END:VTIMEZONE
BEGIN:VEVENT
DTSTART;TZID=America/New_York:20250605T180000
DTEND;TZID=America/New_York:20250605T200000
DTSTAMP:20260422T190427
CREATED:20250319T170254Z
LAST-MODIFIED:20250319T170254Z
UID:3575-1749146400-1749153600@wyldblu.com
SUMMARY:Solo Blu @ The Run
DESCRIPTION:Solo Blu @ The Run’s awesome Tavern – dinner + TURKEY NIGHT + drink specials\, live music\, Thurs night fun @ the Run!
URL:https://wyldblu.com/events/solo-blu-the-run-6/
LOCATION:Chicken Run Family Restaurant & Steakhouse\, 5639 State Route 23\, Windham NY\, 12496\, United States
END:VEVENT
BEGIN:VEVENT
DTSTART;TZID=America/New_York:20250607T130000
DTEND;TZID=America/New_York:20250607T160000
DTSTAMP:20260422T190427
CREATED:20250319T170456Z
LAST-MODIFIED:20250319T173652Z
UID:3577-1749301200-1749312000@wyldblu.com
SUMMARY:BLU X2 @ Shankdaken Inn
DESCRIPTION:BLU X2 @ Shankdaken Inn: MUSIC ON THE MEADOW \nRelax and enjoy an afternoon of live music \, lunch and libations at the historic Shandaken Inn.. Rolling meadows\, mountain views from the bluestone patio –\nPaying homage to the once-famous Rip Van Winkle Club\, The Clubhouse is named after the historic golf course\, originally built in the 1920s. Featuring a hearty yet simple cuisine crafted from the freshest seasonal produce and sourced by the region’s most notable artisans\, purveyors\, and farmers. From small\, shareable plates and sides to wholesome entrees\, sweets\, and craft cocktails\, the menu rotates based on seasonal and market availability \n1 Golf Course Rd\, Shandaken\, NY 12480
URL:https://wyldblu.com/events/blu-x2-shankdaken-inn-3/
LOCATION:Shandaken Inn\, 1 Golf Course Rd\, Shandaken\, NY\, 12480
END:VEVENT
BEGIN:VEVENT
DTSTART;TZID=America/New_York:20250626T200000
DTEND;TZID=America/New_York:20250626T220000
DTSTAMP:20260422T190427
CREATED:20250319T170703Z
LAST-MODIFIED:20250516T130823Z
UID:3579-1750968000-1750975200@wyldblu.com
SUMMARY:BLU RAINE @ The Tap House Grille
DESCRIPTION:A special evening of smokin’ swingin’ country\, rock and blues featuring Alana Wyld and Dorraine Scofield. \n\nTaphouse Grille & Speakeasy\, featuring huge selection of craft brews on tap\, fab menu of pub faves from juicy burgers to sushi\, fresh salads and more.\nLive Music 8-10pm
URL:https://wyldblu.com/events/blu-x2-the-tap-house-grille-7/
LOCATION:The Taphouse & Grille\, 5359 Main Street\, Windham\, NY\, 12496
CATEGORIES:Live Music
END:VEVENT
END:VCALENDAR