BEGIN:VCALENDAR
VERSION:2.0
PRODID:-//Wyld Blu - ECPv6.15.20//NONSGML v1.0//EN
CALSCALE:GREGORIAN
METHOD:PUBLISH
X-ORIGINAL-URL:https://wyldblu.com
X-WR-CALDESC:Events for Wyld Blu
REFRESH-INTERVAL;VALUE=DURATION:PT1H
X-Robots-Tag:noindex
X-PUBLISHED-TTL:PT1H
BEGIN:VTIMEZONE
TZID:America/New_York
BEGIN:DAYLIGHT
TZOFFSETFROM:-0500
TZOFFSETTO:-0400
TZNAME:EDT
DTSTART:20240310T070000
END:DAYLIGHT
BEGIN:STANDARD
TZOFFSETFROM:-0400
TZOFFSETTO:-0500
TZNAME:EST
DTSTART:20241103T060000
END:STANDARD
BEGIN:DAYLIGHT
TZOFFSETFROM:-0500
TZOFFSETTO:-0400
TZNAME:EDT
DTSTART:20250309T070000
END:DAYLIGHT
BEGIN:STANDARD
TZOFFSETFROM:-0400
TZOFFSETTO:-0500
TZNAME:EST
DTSTART:20251102T060000
END:STANDARD
BEGIN:DAYLIGHT
TZOFFSETFROM:-0500
TZOFFSETTO:-0400
TZNAME:EDT
DTSTART:20260308T070000
END:DAYLIGHT
BEGIN:STANDARD
TZOFFSETFROM:-0400
TZOFFSETTO:-0500
TZNAME:EST
DTSTART:20261101T060000
END:STANDARD
END:VTIMEZONE
BEGIN:VEVENT
DTSTART;TZID=America/New_York:20250705T183000
DTEND;TZID=America/New_York:20250705T203000
DTSTAMP:20260422T173302
CREATED:20250303T183700Z
LAST-MODIFIED:20250303T183700Z
UID:3549-1751740200-1751747400@wyldblu.com
SUMMARY:SOLO BLU @ EastWind
DESCRIPTION:An intimate evening of live acoustic blues at the beautiful Eastwind Hotel Tavern –\nFor a refreshing change of pace and a delightful evening out\, the bar & lounge is cozy and welcoming\, Open to hotel guests and visitors. Serving up hand-shaken cocktails\, beer\, wine and fresh\, delicious fare.\n5088 NY-23\, Windham\, NY 12496
URL:https://wyldblu.com/events/solo-blu-eastwind-4/
LOCATION:Eastwind Hotel\, 5088 NY-23\, Windham\, NY\, 12496
END:VEVENT
BEGIN:VEVENT
DTSTART;TZID=America/New_York:20250710T180000
DTEND;TZID=America/New_York:20250710T203000
DTSTAMP:20260422T173302
CREATED:20250627T135222Z
LAST-MODIFIED:20250627T135222Z
UID:3656-1752170400-1752179400@wyldblu.com
SUMMARY:SOLO BLU: DAY LINE ROOFTOP\, COXSACKIE
DESCRIPTION:A special evening of acoustic blues – Day Line Rooftop Restaurant & Bar sits atop the James Newbury Hudson Valley overlooking the picturesque Hudson River\, and offers an elegant and indulgent dining experience in the heart of Coxsackie\, NY. Come treat yourself to delicious food and drink\, breathtaking panoramic riverside views!
URL:https://wyldblu.com/events/solo-blu-day-line-rooftop-coxsackie-2/
LOCATION:Day Line Rooftop Restaurant & Bar\, 60 South River St\, Coxsackie\, NY\, 12501
END:VEVENT
BEGIN:VEVENT
DTSTART;TZID=America/New_York:20250712T190000
DTEND;TZID=America/New_York:20250712T210000
DTSTAMP:20260422T173302
CREATED:20250516T131803Z
LAST-MODIFIED:20250516T131803Z
UID:3619-1752346800-1752354000@wyldblu.com
SUMMARY:SOLO BLU: Windham Local Public House
DESCRIPTION:Got a taste for great live music? Bring your appetite\, a smile and enjoy! An intimate evening of live acoustic blues. Eddie Music Award Winner Blues Artist of the Year – Alana will be servin’ up her blues with a generous side order of rhythm\, heart and soul. The menu is rich\, reflecting a variety of influences from classic and Texas blues\, boogie\, R&B – even a splash of bluegrass and country flavors. \nThe Windham Local is a community-oriented cafe\, restaurant and bar located in beautiful downtown Windham\, NY. Our menu highlights fresh ingredients from local farms. We serve premium coffee and espresso drinks and fresh pastries\, baked daily. Our lunch and dinner menus are filled with creative comfort food perfect to enjoy with our wide selection of local beer\, wine and non-alcoholic beverages.
URL:https://wyldblu.com/events/solo-blu-windham-local-public-house-9/
LOCATION:Windham Local Public House\, 5410 NY-23 MAIN STREET\, WINDHAM\, NY\, 12496
END:VEVENT
BEGIN:VEVENT
DTSTART;TZID=America/New_York:20250715T190000
DTEND;TZID=America/New_York:20250715T210000
DTSTAMP:20260422T173302
CREATED:20250303T184636Z
LAST-MODIFIED:20250627T134833Z
UID:3551-1752606000-1752613200@wyldblu.com
SUMMARY:WYLD BLU BAND: POUGHKEEPSIE SUMMER CONCERT SERIES
DESCRIPTION:WYLD BLU BAND Rockin’ the Park @ Greenvale Park\, Poughkeepsie Summer Concert Series \nLocation: 2260 New Hackensack Rd\, Poughkeepsie\, NY 12603
URL:https://wyldblu.com/events/wyld-blu-band-poughkeepsie-summer-concert-series/
LOCATION:Greenvale Park\, Poughkeepsie NY\, 2260 New Hackensack Rd.\, Poughkeepsie\, NY\, 12603
END:VEVENT
BEGIN:VEVENT
DTSTART;TZID=America/New_York:20250726T170000
DTEND;TZID=America/New_York:20250726T190000
DTSTAMP:20260422T173302
CREATED:20250303T185024Z
LAST-MODIFIED:20250303T185024Z
UID:3555-1753549200-1753556400@wyldblu.com
SUMMARY:SOLO BLU: Real Maine Lobster Bake
DESCRIPTION:Here comes another deliciously good Real Maine Lobster Bake season!\nLive Music@ The Theatre Garden!!   \nWindham’s Real Maine Lobster Bake is Saturday from 5-7 p.m. Fresh Lobster is shipped overnight from the ocean waters of Maine!\nPrepared at our state-of-the-art outdoor seafood kitchen\, Real Maine Lobster Bake features live Maine lobster\, fresh shrimp\, corn on the cob\, slaw\, the best barbecue and new this year Fried Fresh Seafood Baskets – Takeouts available or eat at tables or in tents on our spacious stream side garden behind the Windham Theatre. \nLive Music\, 18 hole mini golf\, ice cream\, games and fun for all ages! \n– YOU MUST PRE-ORDER BY WEDNESDAY 9PM PRIOR – You can reserve your dinners today\, with online ordering:\nhttps://realmainelobsterbake.square.site/
URL:https://wyldblu.com/events/solo-blu-real-maine-lobster-bake-3/
LOCATION:Windham Theatre\, 11 Vets Road\, Windham\, NY\, 12496
END:VEVENT
BEGIN:VEVENT
DTSTART;TZID=America/New_York:20250730T180000
DTEND;TZID=America/New_York:20250730T193000
DTSTAMP:20260422T173302
CREATED:20250627T140727Z
LAST-MODIFIED:20250627T141921Z
UID:3658-1753898400-1753903800@wyldblu.com
SUMMARY:WYLD BLU: Putnam Arts Council Summer Concert
DESCRIPTION:Get ready for a sensational summer evening! The Putnam Arts Council (PAC) is thrilled to present a Special Summer Concert featuring Alana Wyld & WYLD BLU. Join us for a night of fantastic music\, good vibes and support the vibrant arts community in Putnam County! \nPatterson Library\n1167 NY-311\, Patterson\, NY 12563 \nRAIN DATE: WED AUG 6TH \nAs the independent\, official voice for the arts in Putnam County\, PAC tirelessly advocates for cultural enrichment. We continually liaise with local\, county\, and state governments\, and the media\, promoting the vital importance of the arts. PAC also highlights the significant impact the arts have on regional economic development and tourism.  \nhttps://putnamartscouncil.com/
URL:https://wyldblu.com/events/wyld-blu-putnam-arts-council-summer-concert/
LOCATION:Patterson Library PAC\, 1167 NY-311\, Patterson\, NY\, 12563
END:VEVENT
BEGIN:VEVENT
DTSTART;TZID=America/New_York:20250731T173000
DTEND;TZID=America/New_York:20250731T193000
DTSTAMP:20260422T173302
CREATED:20250127T173101Z
LAST-MODIFIED:20250729T155311Z
UID:3531-1753983000-1753990200@wyldblu.com
SUMMARY:BLU X2: Wiltwyck Golf Club\, Kingston NY
DESCRIPTION:BLUX2  – serving up a bluesy stew and a fist full of rock and roll!  Come to golf\, come just to eat\, drink\, relax and take in the scenery at beautiful Wiltwyck.
URL:https://wyldblu.com/events/blu-x2-wiltwyck-golf-club-3/
LOCATION:Wiltwyk Golf Club\, 404 Steward Lane\, Kingston\, NY\, 12401
CATEGORIES:Live Music
END:VEVENT
END:VCALENDAR