BEGIN:VCALENDAR
VERSION:2.0
PRODID:-//Wyld Blu - ECPv6.15.20//NONSGML v1.0//EN
CALSCALE:GREGORIAN
METHOD:PUBLISH
X-WR-CALNAME:Wyld Blu
X-ORIGINAL-URL:https://wyldblu.com
X-WR-CALDESC:Events for Wyld Blu
REFRESH-INTERVAL;VALUE=DURATION:PT1H
X-Robots-Tag:noindex
X-PUBLISHED-TTL:PT1H
BEGIN:VTIMEZONE
TZID:America/New_York
BEGIN:DAYLIGHT
TZOFFSETFROM:-0500
TZOFFSETTO:-0400
TZNAME:EDT
DTSTART:20240310T070000
END:DAYLIGHT
BEGIN:STANDARD
TZOFFSETFROM:-0400
TZOFFSETTO:-0500
TZNAME:EST
DTSTART:20241103T060000
END:STANDARD
BEGIN:DAYLIGHT
TZOFFSETFROM:-0500
TZOFFSETTO:-0400
TZNAME:EDT
DTSTART:20250309T070000
END:DAYLIGHT
BEGIN:STANDARD
TZOFFSETFROM:-0400
TZOFFSETTO:-0500
TZNAME:EST
DTSTART:20251102T060000
END:STANDARD
BEGIN:DAYLIGHT
TZOFFSETFROM:-0500
TZOFFSETTO:-0400
TZNAME:EDT
DTSTART:20260308T070000
END:DAYLIGHT
BEGIN:STANDARD
TZOFFSETFROM:-0400
TZOFFSETTO:-0500
TZNAME:EST
DTSTART:20261101T060000
END:STANDARD
END:VTIMEZONE
BEGIN:VEVENT
DTSTART;TZID=America/New_York:20250904T173000
DTEND;TZID=America/New_York:20250904T193000
DTSTAMP:20260422T140803
CREATED:20250127T173243Z
LAST-MODIFIED:20250127T173243Z
UID:3533-1757007000-1757014200@wyldblu.com
SUMMARY:BLU X2: Wiltwyck Golf Club
DESCRIPTION:BLUX2  – serving up a bluesy stew and a fist full of rock and roll!  Come to golf\, come just to eat\, drink\, relax and take in the scenery at beautiful Wiltwyck.
URL:https://wyldblu.com/events/blu-x2-wiltwyck-golf-club-4/
LOCATION:Wiltwyk Golf Club\, 404 Steward Lane\, Kingston\, NY\, 12401
CATEGORIES:Live Music
END:VEVENT
BEGIN:VEVENT
DTSTART;TZID=America/New_York:20250911T180000
DTEND;TZID=America/New_York:20250911T200000
DTSTAMP:20260422T140803
CREATED:20250627T142059Z
LAST-MODIFIED:20250627T142059Z
UID:3663-1757613600-1757620800@wyldblu.com
SUMMARY:Solo Blu @ The Run
DESCRIPTION:Solo Blu @ The Run’s awesome Tavern – dinner + TURKEY NIGHT + drink specials\, live music\, Thurs night fun @ the Run!
URL:https://wyldblu.com/events/solo-blu-the-run-7/
LOCATION:Chicken Run Family Restaurant & Steakhouse\, 5639 State Route 23\, Windham NY\, 12496\, United States
END:VEVENT
BEGIN:VEVENT
DTSTART;TZID=America/New_York:20250912T180000
DTEND;TZID=America/New_York:20250912T200000
DTSTAMP:20260422T140803
CREATED:20250127T173514Z
LAST-MODIFIED:20250319T173806Z
UID:3535-1757700000-1757707200@wyldblu.com
SUMMARY:WYLD BLU @ Red Hook Villlage Green
DESCRIPTION:WYLD BLU BAND\nFREE Summer Concert at Red Hook Village Green – bring your lawn chairs\, picnic lunch and relax and enjoy!!
URL:https://wyldblu.com/events/wyld-blu-red-hook-villlage-green-2/
LOCATION:Red Hook Village Green\, 7508 N Broadway St\, Red Hook\, NY
CATEGORIES:Live Music
END:VEVENT
BEGIN:VEVENT
DTSTART;TZID=America/New_York:20250920T190000
DTEND;TZID=America/New_York:20250920T210000
DTSTAMP:20260422T140803
CREATED:20250516T140309Z
LAST-MODIFIED:20250516T140309Z
UID:3642-1758394800-1758402000@wyldblu.com
SUMMARY:SOLO BLU: Windham Local Public House
DESCRIPTION:Got a taste for great live music? Bring your appetite\, a smile and enjoy! An intimate evening of live acoustic blues. Eddie Music Award Winner Blues Artist of the Year – Alana will be servin’ up her blues with a generous side order of rhythm\, heart and soul. The menu is rich\, reflecting a variety of influences from classic and Texas blues\, boogie\, R&B – even a splash of bluegrass and country flavors. \nThe Windham Local is a community-oriented cafe\, restaurant and bar located in beautiful downtown Windham\, NY. Our menu highlights fresh ingredients from local farms. We serve premium coffee and espresso drinks and fresh pastries\, baked daily. Our lunch and dinner menus are filled with creative comfort food perfect to enjoy with our wide selection of local beer\, wine and non-alcoholic beverages.
URL:https://wyldblu.com/events/solo-blu-windham-local-public-house-11/
LOCATION:Windham Local Public House\, 5410 NY-23 MAIN STREET\, WINDHAM\, NY\, 12496
END:VEVENT
END:VCALENDAR