BEGIN:VCALENDAR
VERSION:2.0
PRODID:-//Wyld Blu - ECPv6.15.20//NONSGML v1.0//EN
CALSCALE:GREGORIAN
METHOD:PUBLISH
X-WR-CALNAME:Wyld Blu
X-ORIGINAL-URL:https://wyldblu.com
X-WR-CALDESC:Events for Wyld Blu
REFRESH-INTERVAL;VALUE=DURATION:PT1H
X-Robots-Tag:noindex
X-PUBLISHED-TTL:PT1H
BEGIN:VTIMEZONE
TZID:America/New_York
BEGIN:DAYLIGHT
TZOFFSETFROM:-0500
TZOFFSETTO:-0400
TZNAME:EDT
DTSTART:20230312T070000
END:DAYLIGHT
BEGIN:STANDARD
TZOFFSETFROM:-0400
TZOFFSETTO:-0500
TZNAME:EST
DTSTART:20231105T060000
END:STANDARD
BEGIN:DAYLIGHT
TZOFFSETFROM:-0500
TZOFFSETTO:-0400
TZNAME:EDT
DTSTART:20240310T070000
END:DAYLIGHT
BEGIN:STANDARD
TZOFFSETFROM:-0400
TZOFFSETTO:-0500
TZNAME:EST
DTSTART:20241103T060000
END:STANDARD
BEGIN:DAYLIGHT
TZOFFSETFROM:-0500
TZOFFSETTO:-0400
TZNAME:EDT
DTSTART:20250309T070000
END:DAYLIGHT
BEGIN:STANDARD
TZOFFSETFROM:-0400
TZOFFSETTO:-0500
TZNAME:EST
DTSTART:20251102T060000
END:STANDARD
END:VTIMEZONE
BEGIN:VEVENT
DTSTART;TZID=America/New_York:20240518T150000
DTEND;TZID=America/New_York:20240518T180000
DTSTAMP:20260425T104401
CREATED:20231208T132028Z
LAST-MODIFIED:20240409T170621Z
UID:3186-1716044400-1716055200@wyldblu.com
SUMMARY:Bikes\, Brews & Blues @ The Inn at Leeds
DESCRIPTION:Come on out for a special day of Bikes\, Brews ‘n Blues — Cross-county annual Ride Against Cancer – landing at the historic Inn at Leeds\, live music with WYLD BLU BAND\, great food\, drinks\, raffles\, prizes and fun for all.\nBeautiful outdoor terrace\, indoor and outdoor dining\, full bar\, specials.. \nALL PROCEEDS BENEFIT THE GREENE COUNTY WOMEN’S LEAGUE CANCER PATIENT AID \n\n1125 Main St\, Leeds\, NY 12451  (518) 943-6451
URL:https://wyldblu.com/events/blues-brews-blues-at-murphys-law/
LOCATION:The Inn at Leeds\, 1125 Main St\, Leeds\, NY\, 12451
CATEGORIES:Live Music
ATTACH;FMTTYPE=image/jpeg:https://wyldblu.com/wp-content/uploads/2023/12/BIKERS-FLYER-COLORW.jpg
END:VEVENT
BEGIN:VEVENT
DTSTART;TZID=America/New_York:20240530T190000
DTEND;TZID=America/New_York:20240530T230000
DTSTAMP:20260425T104401
CREATED:20240311T145843Z
LAST-MODIFIED:20240328T212628Z
UID:3314-1717095600-1717110000@wyldblu.com
SUMMARY:PRO JAM #38 COLONY WOODSTOCK
DESCRIPTION:A NIGHT OF THE REGION’S BEST BLUES MUSICIANS AND DOZENS OF HUDSON VALLEY PRO TOURING MUSICIANS!\nPJ 38 will kick off with the House Band playing a set\, then the floor opens up to join in the Pro Jam!\nThe House Band TBA!! \nPro Jam MC Alana Wyld (Wyld Blu) will join the House Band for a few tunes\, and then we’ll open it up to all musicians.\nSign-ups are at 7 pm\, show starts at 8 pm.  \nVisit: ProJamLive.com
URL:https://wyldblu.com/events/pro-jam-38-colony-woodstock/
LOCATION:Colony Woodstock\, 22 ROCK CITY ROAD\, WOODSTOCK\, NY\, 12498
END:VEVENT
END:VCALENDAR