BEGIN:VCALENDAR
VERSION:2.0
PRODID:-//Wyld Blu - ECPv6.15.20//NONSGML v1.0//EN
CALSCALE:GREGORIAN
METHOD:PUBLISH
X-ORIGINAL-URL:https://wyldblu.com
X-WR-CALDESC:Events for Wyld Blu
REFRESH-INTERVAL;VALUE=DURATION:PT1H
X-Robots-Tag:noindex
X-PUBLISHED-TTL:PT1H
BEGIN:VTIMEZONE
TZID:America/New_York
BEGIN:DAYLIGHT
TZOFFSETFROM:-0500
TZOFFSETTO:-0400
TZNAME:EDT
DTSTART:20230312T070000
END:DAYLIGHT
BEGIN:STANDARD
TZOFFSETFROM:-0400
TZOFFSETTO:-0500
TZNAME:EST
DTSTART:20231105T060000
END:STANDARD
BEGIN:DAYLIGHT
TZOFFSETFROM:-0500
TZOFFSETTO:-0400
TZNAME:EDT
DTSTART:20240310T070000
END:DAYLIGHT
BEGIN:STANDARD
TZOFFSETFROM:-0400
TZOFFSETTO:-0500
TZNAME:EST
DTSTART:20241103T060000
END:STANDARD
BEGIN:DAYLIGHT
TZOFFSETFROM:-0500
TZOFFSETTO:-0400
TZNAME:EDT
DTSTART:20250309T070000
END:DAYLIGHT
BEGIN:STANDARD
TZOFFSETFROM:-0400
TZOFFSETTO:-0500
TZNAME:EST
DTSTART:20251102T060000
END:STANDARD
END:VTIMEZONE
BEGIN:VEVENT
DTSTART;TZID=America/New_York:20240907T130000
DTEND;TZID=America/New_York:20240907T170000
DTSTAMP:20260423T093921
CREATED:20240311T154231Z
LAST-MODIFIED:20240313T144930Z
UID:3329-1725714000-1725728400@wyldblu.com
SUMMARY:WYLD BLU@ Catskill Food & Beverage Festival
DESCRIPTION:The most delicious festival in the Catskills & Hudson Valley! 1-5pm. FREE Admission!!\nWYLD BLU Band will be rockin’ the main stage – Come out and spend a fun-filled day on the banks of the Hudson River.. \nThis festival will showcase food from around the globe\, as well as locally crafted beers\, wines\, spirits\, seltzers and ciders – live music all day\, vendors\, crafts\, family fun and foood foood food and bevvv\, bevvv\, bevvv! \nat historic Catskill Point\, Dutchman’s Landing Park\nCatskill NY
URL:https://wyldblu.com/events/wyld-blu-catskill-food-beverage-festival/
LOCATION:Dutchman’s Landing Park\, 10 Main Street\, Catskill\, NY\, 12414
END:VEVENT
BEGIN:VEVENT
DTSTART;TZID=America/New_York:20240914T130000
DTEND;TZID=America/New_York:20240914T160000
DTSTAMP:20260423T093921
CREATED:20240523T144047Z
LAST-MODIFIED:20240820T122933Z
UID:3421-1726318800-1726329600@wyldblu.com
SUMMARY:BLU X2 @ Shankdaken Inn: PAWS ON THE MEADOW
DESCRIPTION:Relax and enjoy an afternoon of live music \, lunch and libations at the historic Shandaken Inn.. Rolling meadows\, mountain views from the bluestone patio –\nPaying homage to the once-famous Rip Van Winkle Club\, The Clubhouse is named after the historic golf course\, originally built in the 1920s. Featuring a hearty yet simple cuisine crafted from the freshest seasonal produce and sourced by the region’s most notable artisans\, purveyors\, and farmers. From small\, shareable plates and sides to wholesome entrees\, sweets\, and craft cocktails\, the menu rotates based on seasonal and market availability \n1 Golf Course Rd\, Shandaken\, NY 12480
URL:https://wyldblu.com/events/blu-x2-shankdaken-inn-2/
LOCATION:Shandaken Inn\, 1 Golf Course Rd\, Shandaken\, NY\, 12480
CATEGORIES:Live Music
END:VEVENT
BEGIN:VEVENT
DTSTART;TZID=America/New_York:20240919T200000
DTEND;TZID=America/New_York:20240919T220000
DTSTAMP:20260423T093921
CREATED:20240820T115522Z
LAST-MODIFIED:20240820T115522Z
UID:3442-1726776000-1726783200@wyldblu.com
SUMMARY:BLU X2: The Tap House Grille
DESCRIPTION:BLU X2: The Tap House Grille
URL:https://wyldblu.com/events/blu-x2-the-tap-house-grille/
LOCATION:The Taphouse & Grille\, 5359 Main Street\, Windham\, NY\, 12496
CATEGORIES:Live Music
END:VEVENT
END:VCALENDAR