BEGIN:VCALENDAR
VERSION:2.0
PRODID:-//Wyld Blu - ECPv6.15.20//NONSGML v1.0//EN
CALSCALE:GREGORIAN
METHOD:PUBLISH
X-ORIGINAL-URL:https://wyldblu.com
X-WR-CALDESC:Events for Wyld Blu
REFRESH-INTERVAL;VALUE=DURATION:PT1H
X-Robots-Tag:noindex
X-PUBLISHED-TTL:PT1H
BEGIN:VTIMEZONE
TZID:America/New_York
BEGIN:DAYLIGHT
TZOFFSETFROM:-0500
TZOFFSETTO:-0400
TZNAME:EDT
DTSTART:20230312T070000
END:DAYLIGHT
BEGIN:STANDARD
TZOFFSETFROM:-0400
TZOFFSETTO:-0500
TZNAME:EST
DTSTART:20231105T060000
END:STANDARD
BEGIN:DAYLIGHT
TZOFFSETFROM:-0500
TZOFFSETTO:-0400
TZNAME:EDT
DTSTART:20240310T070000
END:DAYLIGHT
BEGIN:STANDARD
TZOFFSETFROM:-0400
TZOFFSETTO:-0500
TZNAME:EST
DTSTART:20241103T060000
END:STANDARD
BEGIN:DAYLIGHT
TZOFFSETFROM:-0500
TZOFFSETTO:-0400
TZNAME:EDT
DTSTART:20250309T070000
END:DAYLIGHT
BEGIN:STANDARD
TZOFFSETFROM:-0400
TZOFFSETTO:-0500
TZNAME:EST
DTSTART:20251102T060000
END:STANDARD
END:VTIMEZONE
BEGIN:VEVENT
DTSTART;TZID=America/New_York:20241003T190000
DTEND;TZID=America/New_York:20241003T230000
DTSTAMP:20260423T080016
CREATED:20240328T212453Z
LAST-MODIFIED:20240405T141658Z
UID:3364-1727982000-1727996400@wyldblu.com
SUMMARY:Pro Jam #40 Colony Woodstock
DESCRIPTION:PRO JAM #40 • 40TH ANNIVERSARY CELEBRATION!!\n \nA NIGHT OF THE REGION’S BEST BLUES MUSICIANS AND DOZENS OF HUDSON VALLEY PRO TOURING MUSICIANS!\nPJ #40 will kick off with the House Band playing a set\, then the floor opens up to join in the Pro Jam! The House Band TBA!! \nPro Jam MC Alana Wyld (Wyld Blu) will join the House Band for a few tunes\, and then we’ll open it up to all musicians.\nDoors Open & Sign-ups are at 7 pm\, show starts at 8 pm.  – NO COVER: DONATIONS WELCOME :) \nSign up early! Stay Late! Have Fun!\nVisit: ProJamLive.com\n \nThe Historic Colony Woodstock – Restored 1929 theater and dining hall featuring diverse music acts plus comedy & art events in an intimate setting.. full menu & bar.
URL:https://wyldblu.com/events/pro-jam-40-colony-woodstock/
LOCATION:Colony Woodstock\, 22 ROCK CITY ROAD\, WOODSTOCK\, NY\, 12498
CATEGORIES:Live Music
END:VEVENT
BEGIN:VEVENT
DTSTART;TZID=America/New_York:20241011T180000
DTEND;TZID=America/New_York:20241011T200000
DTSTAMP:20260423T080016
CREATED:20240405T135753Z
LAST-MODIFIED:20241010T135742Z
UID:3377-1728669600-1728676800@wyldblu.com
SUMMARY:BLUX2 @ Dale's Roadside Rhinebeck
DESCRIPTION:BLUX2 @ Dale’s Roadside Rhinebeck – serving up a bluesy stew: a li’l bit o’ country\, bluegrass\, a whole lotta blues and a fist full of rock and roll @ the iconic Rhinebeck roadside stand is where it all comes together… Amazing ice cream\, grab a fresh smash burger\, sit outside and spend time with your family and friends. You can kick back\, play some cornhole\, indulge in farm-fresh\, handmade ice cream & delicious\, local fare! \nCome hang out with us. Enjoy live music. Eat ice cream. Be happy. \n\n\nDel’s is made to gather and enjoy the moment with our delectable ice cream\, great food\, and even a few beverages (try one of our incredible boozy shakes).\nOur scoops begin with fresh milk straight from the farm to our small batch creamery where all the magic happens. \n\n\n  \n\n\nVisit Del’s Rhinebeck on FaceBook
URL:https://wyldblu.com/events/blux2-dales-roadside-rhinebeck/
LOCATION:Del’s Roadside Rhinebeck\, 6780 Albany Post Road\, Rhinebeck\, NY\, 12572
CATEGORIES:Live Music
END:VEVENT
BEGIN:VEVENT
DTSTART;TZID=America/New_York:20241012T173000
DTEND;TZID=America/New_York:20241012T193000
DTSTAMP:20260423T080016
CREATED:20240311T154955Z
LAST-MODIFIED:20240311T154955Z
UID:3333-1728754200-1728761400@wyldblu.com
SUMMARY:SOLO BLU @ EastWind
DESCRIPTION:An evening of live acoustic blues under the sun and stars at the beautiful Eastwind hotel –\nbar & lounge is cozy and welcoming\, Open to hotel guests and visitors. Serving up hand-shaken cocktails\, beer\, wine and simple fare.\n5088 NY-23\, Windham\, NY 12496
URL:https://wyldblu.com/events/solo-blu-eastwind/
LOCATION:Eastwind Hotel\, 5088 NY-23\, Windham\, NY\, 12496
END:VEVENT
BEGIN:VEVENT
DTSTART;TZID=America/New_York:20241017T180000
DTEND;TZID=America/New_York:20241017T200000
DTSTAMP:20260423T080016
CREATED:20240820T120205Z
LAST-MODIFIED:20241010T145614Z
UID:3449-1729188000-1729195200@wyldblu.com
SUMMARY:Solo Blu @ The Run
DESCRIPTION:Solo Blu @ The Run Tavern – Thurs night fun @ the Run!\, dinner specials\, live music\, indoor/outdoor dining and more…
URL:https://wyldblu.com/events/solo-blu-the-run-2/
LOCATION:Chicken Run Family Restaurant & Steakhouse\, 5639 State Route 23\, Windham NY\, 12496\, United States
CATEGORIES:Live Music
END:VEVENT
BEGIN:VEVENT
DTSTART;TZID=America/New_York:20241024T200000
DTEND;TZID=America/New_York:20241024T220000
DTSTAMP:20260423T080016
CREATED:20240820T115833Z
LAST-MODIFIED:20240820T115833Z
UID:3445-1729800000-1729807200@wyldblu.com
SUMMARY:BLU X2: The Tap House Grille
DESCRIPTION:BLU X2: The Tap House Grille
URL:https://wyldblu.com/events/blu-x2-the-tap-house-grille-2/
LOCATION:The Taphouse & Grille\, 5359 Main Street\, Windham\, NY\, 12496
CATEGORIES:Live Music
END:VEVENT
BEGIN:VEVENT
DTSTART;TZID=America/New_York:20241026T190000
DTEND;TZID=America/New_York:20241026T210000
DTSTAMP:20260423T080016
CREATED:20240514T154352Z
LAST-MODIFIED:20240514T154457Z
UID:3410-1729969200-1729976400@wyldblu.com
SUMMARY:SOLO BLU @ Windham Local Public House
DESCRIPTION:An intimate evening of live acoustic blues. Eddie Music Award Winner Blues Artist of the Year – Alana will be servin’ up her blues with a generous side order of rhythm\, heart and soul. Her menu is rich\, reflecting a variety of influences from classic and Texas blues\, boogie\, R&B – even a splash of bluegrass and country flavors. Got a taste for great live music? Bring your appetite\, a smile and enjoy! \nThe Windham Local is a community-oriented cafe\, restaurant and bar located in beautiful downtown Windham\, NY. Our menu highlights fresh ingredients from local farms. We serve premium coffee and espresso drinks and fresh pastries\, baked daily. Our lunch and dinner menus are filled with creative comfort food perfect to enjoy with our wide selection of local beer\, wine and non-alcoholic beverages.
URL:https://wyldblu.com/events/solo-blu-windham-local-public-house-4/
LOCATION:Windham Local Public House\, 5410 NY-23 MAIN STREET\, WINDHAM\, NY\, 12496
CATEGORIES:Live Music
END:VEVENT
END:VCALENDAR