BEGIN:VCALENDAR
VERSION:2.0
PRODID:-//Wyld Blu - ECPv6.15.20//NONSGML v1.0//EN
CALSCALE:GREGORIAN
METHOD:PUBLISH
X-ORIGINAL-URL:https://wyldblu.com
X-WR-CALDESC:Events for Wyld Blu
REFRESH-INTERVAL;VALUE=DURATION:PT1H
X-Robots-Tag:noindex
X-PUBLISHED-TTL:PT1H
BEGIN:VTIMEZONE
TZID:America/New_York
BEGIN:DAYLIGHT
TZOFFSETFROM:-0500
TZOFFSETTO:-0400
TZNAME:EDT
DTSTART:20240310T070000
END:DAYLIGHT
BEGIN:STANDARD
TZOFFSETFROM:-0400
TZOFFSETTO:-0500
TZNAME:EST
DTSTART:20241103T060000
END:STANDARD
BEGIN:DAYLIGHT
TZOFFSETFROM:-0500
TZOFFSETTO:-0400
TZNAME:EDT
DTSTART:20250309T070000
END:DAYLIGHT
BEGIN:STANDARD
TZOFFSETFROM:-0400
TZOFFSETTO:-0500
TZNAME:EST
DTSTART:20251102T060000
END:STANDARD
BEGIN:DAYLIGHT
TZOFFSETFROM:-0500
TZOFFSETTO:-0400
TZNAME:EDT
DTSTART:20260308T070000
END:DAYLIGHT
BEGIN:STANDARD
TZOFFSETFROM:-0400
TZOFFSETTO:-0500
TZNAME:EST
DTSTART:20261101T060000
END:STANDARD
END:VTIMEZONE
BEGIN:VEVENT
DTSTART;TZID=America/New_York:20250802T130000
DTEND;TZID=America/New_York:20250802T160000
DTSTAMP:20260422T152026
CREATED:20250516T134947Z
LAST-MODIFIED:20250516T134947Z
UID:3581-1754139600-1754150400@wyldblu.com
SUMMARY:BLU RAINE @ Shankdaken Inn
DESCRIPTION:COUNTRY LADIE’S DAY: MUSIC ON THE MEADOW!\nSwingin’ country\, rock and blues featuring Alana Wyld and Dorraine Scofield. \nRelax and enjoy an afternoon of live music\, lunch and libations at the historic Shandaken Inn.. Rolling meadows\, mountain views from the bluestone patio –\nPaying homage to the once-famous Rip Van Winkle Club\, The Clubhouse is named after the historic golf course\, originally built in the 1920s. Featuring a hearty yet simple cuisine crafted from the freshest seasonal produce and sourced by the region’s most notable artisans\, purveyors\, and farmers. From small\, shareable plates and sides to wholesome entrees\, sweets\, and craft cocktails\, the menu rotates based on seasonal and market availability \n1 Golf Course Rd\, Shandaken\, NY 12480
URL:https://wyldblu.com/events/blu-raine-shankdaken-inn/
LOCATION:Shandaken Inn\, 1 Golf Course Rd\, Shandaken\, NY\, 12480
END:VEVENT
BEGIN:VEVENT
DTSTART;TZID=America/New_York:20250816T190000
DTEND;TZID=America/New_York:20250816T210000
DTSTAMP:20260422T152026
CREATED:20250516T135327Z
LAST-MODIFIED:20250820T154646Z
UID:3635-1755370800-1755378000@wyldblu.com
SUMMARY:SOLO BLU: Windham Local Public House
DESCRIPTION:Got a taste for great live music? Bring your appetite\, a smile and enjoy! An intimate evening of live acoustic blues. Eddie Music Award Winner Blues Artist of the Year – Alana will be servin’ up her blues with a generous side order of rhythm\, heart and soul. The menu is rich\, reflecting a variety of influences from classic and Texas blues\, boogie\, R&B – even a splash of bluegrass and country flavors. \nThe Windham Local is a community-oriented cafe\, restaurant and bar located in beautiful downtown Windham\, NY. Our menu highlights fresh ingredients from local farms. We serve premium coffee and espresso drinks and fresh pastries\, baked daily. Our lunch and dinner menus are filled with creative comfort food perfect to enjoy with our wide selection of local beer\, wine and non-alcoholic beverages.
URL:https://wyldblu.com/events/solo-blu-windham-local-public-house-10/
LOCATION:Windham Local Public House\, 5410 NY-23 MAIN STREET\, WINDHAM\, NY\, 12496
END:VEVENT
BEGIN:VEVENT
DTSTART;TZID=America/New_York:20250830T170000
DTEND;TZID=America/New_York:20250830T190000
DTSTAMP:20260422T152026
CREATED:20250303T191439Z
LAST-MODIFIED:20250303T191439Z
UID:3558-1756573200-1756580400@wyldblu.com
SUMMARY:SOLO BLU: Real Maine Lobster Bake
DESCRIPTION:Here comes another deliciously good Real Maine Lobster Bake season!\nLive Music@ The Theatre Garden!!   \nWindham’s Real Maine Lobster Bake is Saturday from 5-7 p.m. Fresh Lobster is shipped overnight from the ocean waters of Maine!\nPrepared at our state-of-the-art outdoor seafood kitchen\, Real Maine Lobster Bake features live Maine lobster\, fresh shrimp\, corn on the cob\, slaw\, the best barbecue and new this year Fried Fresh Seafood Baskets – Takeouts available or eat at tables or in tents on our spacious stream side garden behind the Windham Theatre. \nLive Music\, 18 hole mini golf\, ice cream\, games and fun for all ages! \n– YOU MUST PRE-ORDER BY WEDNESDAY 9PM PRIOR – You can reserve your dinners today\, with online ordering:\nhttps://realmainelobsterbake.square.site/
URL:https://wyldblu.com/events/solo-blu-real-maine-lobster-bake-4/
LOCATION:Windham Theatre\, 11 Vets Road\, Windham\, NY\, 12496
CATEGORIES:Live Music
END:VEVENT
END:VCALENDAR