BEGIN:VCALENDAR
VERSION:2.0
PRODID:-//Wyld Blu - ECPv6.15.20//NONSGML v1.0//EN
CALSCALE:GREGORIAN
METHOD:PUBLISH
X-ORIGINAL-URL:https://wyldblu.com
X-WR-CALDESC:Events for Wyld Blu
REFRESH-INTERVAL;VALUE=DURATION:PT1H
X-Robots-Tag:noindex
X-PUBLISHED-TTL:PT1H
BEGIN:VTIMEZONE
TZID:America/New_York
BEGIN:DAYLIGHT
TZOFFSETFROM:-0500
TZOFFSETTO:-0400
TZNAME:EDT
DTSTART:20240310T070000
END:DAYLIGHT
BEGIN:STANDARD
TZOFFSETFROM:-0400
TZOFFSETTO:-0500
TZNAME:EST
DTSTART:20241103T060000
END:STANDARD
BEGIN:DAYLIGHT
TZOFFSETFROM:-0500
TZOFFSETTO:-0400
TZNAME:EDT
DTSTART:20250309T070000
END:DAYLIGHT
BEGIN:STANDARD
TZOFFSETFROM:-0400
TZOFFSETTO:-0500
TZNAME:EST
DTSTART:20251102T060000
END:STANDARD
BEGIN:DAYLIGHT
TZOFFSETFROM:-0500
TZOFFSETTO:-0400
TZNAME:EDT
DTSTART:20260308T070000
END:DAYLIGHT
BEGIN:STANDARD
TZOFFSETFROM:-0400
TZOFFSETTO:-0500
TZNAME:EST
DTSTART:20261101T060000
END:STANDARD
END:VTIMEZONE
BEGIN:VEVENT
DTSTART;TZID=America/New_York:20251211T180000
DTEND;TZID=America/New_York:20251211T200000
DTSTAMP:20260422T083244
CREATED:20251211T202250Z
LAST-MODIFIED:20251211T202250Z
UID:3697-1765476000-1765483200@wyldblu.com
SUMMARY:Solo Blu @ The Run
DESCRIPTION:Solo Blu @ The Run’s awesome Tavern – dinner + TURKEY NIGHT + drink specials\, live music\, Thurs night fun @ the Run! \nBest way to warm ‘yer buns! Come treat yourself to a delicious dinner\, high-five a friendly face and let the good times roll like a runaway egg. AND it’s Turkey Night!!
URL:https://wyldblu.com/events/solo-blu-the-run-9/
LOCATION:Chicken Run Family Restaurant & Steakhouse\, 5639 State Route 23\, Windham NY\, 12496\, United States
CATEGORIES:Live Music
END:VEVENT
BEGIN:VEVENT
DTSTART;TZID=America/New_York:20251220T190000
DTEND;TZID=America/New_York:20251220T210000
DTSTAMP:20260422T083244
CREATED:20250820T155801Z
LAST-MODIFIED:20250820T160035Z
UID:3694-1766257200-1766264400@wyldblu.com
SUMMARY:SOLO BLU: Windham Local Public House
DESCRIPTION:Is the most “rocking” thing the ice in your glass? Unleash your inner foodie and join us for an acoustic evening with Alana Wyld at The Windham Local\, where the blues\, brews\, and bites are perfectly paired with farm-to-table delights\, decadent desserts\, an array of local craft beer\, wine\, handcrafted coffees and sheer yumminess!
URL:https://wyldblu.com/events/solo-blu-windham-local-public-house-14/
LOCATION:Windham Local Public House\, 5410 NY-23 MAIN STREET\, WINDHAM\, NY\, 12496
END:VEVENT
END:VCALENDAR