BEGIN:VCALENDAR
VERSION:2.0
PRODID:-//Wyld Blu - ECPv6.15.20//NONSGML v1.0//EN
CALSCALE:GREGORIAN
METHOD:PUBLISH
X-ORIGINAL-URL:https://wyldblu.com
X-WR-CALDESC:Events for Wyld Blu
REFRESH-INTERVAL;VALUE=DURATION:PT1H
X-Robots-Tag:noindex
X-PUBLISHED-TTL:PT1H
BEGIN:VTIMEZONE
TZID:America/New_York
BEGIN:DAYLIGHT
TZOFFSETFROM:-0500
TZOFFSETTO:-0400
TZNAME:EDT
DTSTART:20230312T070000
END:DAYLIGHT
BEGIN:STANDARD
TZOFFSETFROM:-0400
TZOFFSETTO:-0500
TZNAME:EST
DTSTART:20231105T060000
END:STANDARD
BEGIN:DAYLIGHT
TZOFFSETFROM:-0500
TZOFFSETTO:-0400
TZNAME:EDT
DTSTART:20240310T070000
END:DAYLIGHT
BEGIN:STANDARD
TZOFFSETFROM:-0400
TZOFFSETTO:-0500
TZNAME:EST
DTSTART:20241103T060000
END:STANDARD
BEGIN:DAYLIGHT
TZOFFSETFROM:-0500
TZOFFSETTO:-0400
TZNAME:EDT
DTSTART:20250309T070000
END:DAYLIGHT
BEGIN:STANDARD
TZOFFSETFROM:-0400
TZOFFSETTO:-0500
TZNAME:EST
DTSTART:20251102T060000
END:STANDARD
END:VTIMEZONE
BEGIN:VEVENT
DTSTART;TZID=America/New_York:20241219T200000
DTEND;TZID=America/New_York:20241219T220000
DTSTAMP:20260421T153445
CREATED:20240820T122243Z
LAST-MODIFIED:20240820T122243Z
UID:3457-1734638400-1734645600@wyldblu.com
SUMMARY:BLU X2: The Tap House Grille
DESCRIPTION:BLU X2: The Tap House Grille\nTaphouse Grille & Speakeasy\, featuring huge selection of craft brews on tap\, fab menu of pub faves from juicy burgers to sushi\, fresh salads and more.\nLive Music 8-10pm
URL:https://wyldblu.com/events/blu-x2-the-tap-house-grille-4/
LOCATION:The Taphouse & Grille\, 5359 Main Street\, Windham\, NY\, 12496
CATEGORIES:Live Music
END:VEVENT
END:VCALENDAR