BEGIN:VCALENDAR
VERSION:2.0
PRODID:-//Wyld Blu - ECPv6.15.20//NONSGML v1.0//EN
CALSCALE:GREGORIAN
METHOD:PUBLISH
X-ORIGINAL-URL:https://wyldblu.com
X-WR-CALDESC:Events for Wyld Blu
REFRESH-INTERVAL;VALUE=DURATION:PT1H
X-Robots-Tag:noindex
X-PUBLISHED-TTL:PT1H
BEGIN:VTIMEZONE
TZID:America/New_York
BEGIN:DAYLIGHT
TZOFFSETFROM:-0500
TZOFFSETTO:-0400
TZNAME:EDT
DTSTART:20230312T070000
END:DAYLIGHT
BEGIN:STANDARD
TZOFFSETFROM:-0400
TZOFFSETTO:-0500
TZNAME:EST
DTSTART:20231105T060000
END:STANDARD
BEGIN:DAYLIGHT
TZOFFSETFROM:-0500
TZOFFSETTO:-0400
TZNAME:EDT
DTSTART:20240310T070000
END:DAYLIGHT
BEGIN:STANDARD
TZOFFSETFROM:-0400
TZOFFSETTO:-0500
TZNAME:EST
DTSTART:20241103T060000
END:STANDARD
BEGIN:DAYLIGHT
TZOFFSETFROM:-0500
TZOFFSETTO:-0400
TZNAME:EDT
DTSTART:20250309T070000
END:DAYLIGHT
BEGIN:STANDARD
TZOFFSETFROM:-0400
TZOFFSETTO:-0500
TZNAME:EST
DTSTART:20251102T060000
END:STANDARD
END:VTIMEZONE
BEGIN:VEVENT
DTSTART;TZID=America/New_York:20240601T193000
DTEND;TZID=America/New_York:20240601T213000
DTSTAMP:20260425T110926
CREATED:20231208T131256Z
LAST-MODIFIED:20231208T131256Z
UID:3184-1717270200-1717277400@wyldblu.com
SUMMARY:WYLD BLU Band @ High Falls Cafe
DESCRIPTION:WYLD BLU Band @ High Falls Cafe – serving up a bluesy stew and a fist full of rock and roll! Reservations are suggested for groups over 4. \n2842 US-209\, Kingston\, NY 12401 (North Marbletown)\n \nEat\, Drink\, Dance and Have a Blast at High Falls Cafe! Tantalizing Starters – Homemade Soups & Beef Chili – Fresh Creative Salads \nClassic Burgers & Sandwiches • Satisfying Homemade Entrees (leftovers almost guaranteed) • Locally Made Desserts • Vegetarian and Gluten Free Options\nFull Service Bar • Craft Brews • Fabulous cocktails\, tasty Mules & Martini’s • Ciders\, Seltzers and awesome drink specials
URL:https://wyldblu.com/events/wyld-blu-band-high-falls-cafe/
LOCATION:High Falls Cafe\, 2842 US-209\, Kingston\, NY\, 12401
END:VEVENT
BEGIN:VEVENT
DTSTART;TZID=America/New_York:20240617T160000
DTEND;TZID=America/New_York:20240617T190000
DTSTAMP:20260425T110926
CREATED:20240311T151626Z
LAST-MODIFIED:20240311T155322Z
UID:3317-1718640000-1718650800@wyldblu.com
SUMMARY:BLU X2: Shinglekill Falls Farmer's Market
DESCRIPTION:Market Mondays with BLUX2  – serving up a bluesy stew and a fist full of rock and roll! \nScenic Shinglekill Falls\, family and pet-friendly\, awesome local artisans\, crafts\, gifts\, food and fun for all. \nJUNE 17 • JULY 15 • AUG 19 • SEPT 16\n( 4-7PM • THIRD MONDAY EACH MONTH ) \nLIVE MUSIC • FAB FOOD TRUCKS\nCRAFT BREWS & BEVERAGES • FRESH PRODUCE\nCHOICE MEATS • BAKED GOODS & DESSERTS\nHONEY • FLOWERS • LOCAL ARTISANS\nGIFTS • CRAFTS • JEWELRY • MORE!
URL:https://wyldblu.com/events/shinglekill-falls-farmers-market/
LOCATION:Shinglekill Falls Farmer’s Market\, 500 Mountain Avenue\, Purling\, NY\, 12470
END:VEVENT
BEGIN:VEVENT
DTSTART;TZID=America/New_York:20240622T130000
DTEND;TZID=America/New_York:20240622T170000
DTSTAMP:20260425T110926
CREATED:20240311T153441Z
LAST-MODIFIED:20240313T144441Z
UID:3322-1719061200-1719075600@wyldblu.com
SUMMARY:Hudson Riverfront Food & Beverage Festival
DESCRIPTION:The most delicious festival in the Hudson Valley! 1-5pm. FREE Admission!!\nWYLD BLU Band will be rockin’ the main stage – Come out and spend a fun-filled day on the banks of the Hudson River.. \nThis festival will showcase food from around the globe\, as well as locally crafted beers\, wines\, spirits\, seltzers and ciders – live music all day\, vendors\, crafts\, family fun and foood foood food and bevvv\, bevvv\, bevvv! \n  \nHenry Hudson Riverfront Park\n18 Ferry Street\, Hudson NY 12534
URL:https://wyldblu.com/events/hudson-riverfront-food-beverage-festival/
LOCATION:Henry Hudson Riverfront Park\, 18 Ferry Street\, Hudson\, NY\, 12534
END:VEVENT
END:VCALENDAR