BEGIN:VCALENDAR
VERSION:2.0
PRODID:-//Wyld Blu - ECPv6.15.20//NONSGML v1.0//EN
CALSCALE:GREGORIAN
METHOD:PUBLISH
X-ORIGINAL-URL:https://wyldblu.com
X-WR-CALDESC:Events for Wyld Blu
REFRESH-INTERVAL;VALUE=DURATION:PT1H
X-Robots-Tag:noindex
X-PUBLISHED-TTL:PT1H
BEGIN:VTIMEZONE
TZID:America/New_York
BEGIN:DAYLIGHT
TZOFFSETFROM:-0500
TZOFFSETTO:-0400
TZNAME:EDT
DTSTART:20230312T070000
END:DAYLIGHT
BEGIN:STANDARD
TZOFFSETFROM:-0400
TZOFFSETTO:-0500
TZNAME:EST
DTSTART:20231105T060000
END:STANDARD
BEGIN:DAYLIGHT
TZOFFSETFROM:-0500
TZOFFSETTO:-0400
TZNAME:EDT
DTSTART:20240310T070000
END:DAYLIGHT
BEGIN:STANDARD
TZOFFSETFROM:-0400
TZOFFSETTO:-0500
TZNAME:EST
DTSTART:20241103T060000
END:STANDARD
BEGIN:DAYLIGHT
TZOFFSETFROM:-0500
TZOFFSETTO:-0400
TZNAME:EDT
DTSTART:20250309T070000
END:DAYLIGHT
BEGIN:STANDARD
TZOFFSETFROM:-0400
TZOFFSETTO:-0500
TZNAME:EST
DTSTART:20251102T060000
END:STANDARD
END:VTIMEZONE
BEGIN:VEVENT
DTSTART;TZID=America/New_York:20240808T180000
DTEND;TZID=America/New_York:20240808T200000
DTSTAMP:20260425T071615
CREATED:20240405T134601Z
LAST-MODIFIED:20240405T135433Z
UID:3374-1723140000-1723147200@wyldblu.com
SUMMARY:BLUX2 @ Dale's Roadside Kinderhook
DESCRIPTION:BLUX2 @ Dale’s Roadside Kinderhook – serving up a bluesy stew: a li’l bit o’ country\, bluegrass\, a whole lotta blues and a fist full of rock and roll! Come on out for some great live music. Eat ice cream. Be happy.\n \nYou can kick back\, play some cornhole\, indulge in farm-fresh\, handmade ice cream & delicious\, local fare!\n \n\n\nDel’s is made to gather and enjoy the moment with our delectable ice cream\, great food\, and even a few beverages (try one of our incredible boozy shakes).\nOur scoops begin with fresh milk straight from the farm to our small batch creamery where all the magic happens. \n~ RAIN OR SHINE ~ \n\n\nVisit Del’s Kinderhook on FaceBook
URL:https://wyldblu.com/events/blux2-dales-roadside-kinderhook/
LOCATION:Del’s Roadside Kinderhook\, 4 Smith Road\, Kinderhook\, NY\, 12106
CATEGORIES:Live Music
END:VEVENT
BEGIN:VEVENT
DTSTART;TZID=America/New_York:20240815T190000
DTEND;TZID=America/New_York:20240815T230000
DTSTAMP:20260425T071615
CREATED:20240328T002320Z
LAST-MODIFIED:20240328T212626Z
UID:3360-1723748400-1723762800@wyldblu.com
SUMMARY:Pro Jam #39 Colony Woodstock
DESCRIPTION:PRO JAM #39 • WOMEN IN BLUES – ALL-FEMALE SPECIAL LINEUP \nA NIGHT OF THE REGION’S BEST BLUES MUSICIANS AND DOZENS OF HUDSON VALLEY PRO TOURING MUSICIANS!\nPJ 39 will kick off with the House Band playing a set\, then the floor opens up to join in the Pro Jam!\nThe House Band TBA!! \nPro Jam MC Alana Wyld (Wyld Blu) will join the House Band\, and then we’ll open it up to all musicians.\nSign-ups are at 7 pm\, show starts at 8 pm.  \nVisit: ProJamLive.com
URL:https://wyldblu.com/events/pro-jam39-colony-woodstock/
LOCATION:Colony Woodstock\, 22 ROCK CITY ROAD\, WOODSTOCK\, NY\, 12498
CATEGORIES:Live Music
END:VEVENT
BEGIN:VEVENT
DTSTART;TZID=America/New_York:20240819T160000
DTEND;TZID=America/New_York:20240819T190000
DTSTAMP:20260425T071615
CREATED:20240311T153943Z
LAST-MODIFIED:20240311T153943Z
UID:3327-1724083200-1724094000@wyldblu.com
SUMMARY:BLU X2: Shinglekill Falls Farmer's Market
DESCRIPTION:Market Mondays with BLUX2  – serving up a bluesy stew and a fist full of rock and roll! \nScenic Shinglekill Falls\, family and pet-friendly\, awesome local artisans\, crafts\, gifts\, food and fun for all. \nJUNE 17 • JULY 15 • AUG 19 • SEPT 16\n( 4-7PM • THIRD MONDAY EACH MONTH ) \nLIVE MUSIC • FAB FOOD TRUCKS\nCRAFT BREWS & BEVERAGES • FRESH PRODUCE\nCHOICE MEATS • BAKED GOODS & DESSERTS\nHONEY • FLOWERS • LOCAL ARTISANS\nGIFTS • CRAFTS • JEWELRY • MORE!
URL:https://wyldblu.com/events/blu-x2-shinglekill-falls-farmers-market/
LOCATION:Shinglekill Falls Farmer’s Market\, 500 Mountain Avenue\, Purling\, NY\, 12470
END:VEVENT
BEGIN:VEVENT
DTSTART;TZID=America/New_York:20240824T153000
DTEND;TZID=America/New_York:20240824T170000
DTSTAMP:20260425T071615
CREATED:20240107T175711Z
LAST-MODIFIED:20240313T144911Z
UID:3262-1724513400-1724518800@wyldblu.com
SUMMARY:WYLD BLU @ Hobart Sausage & Brew Festival
DESCRIPTION:This year’s celebration includes music and dancing all night long with the fabulous Leatherstocking Jazz Orchestra\, the Fisher Cats rock ‘n roll\, award-winning blues artist Alana Wyld & WYLD BLU – with DJ Kelly as master of ceremonies. \nFresh farm-to-table sausages and locally grown vegetables served up with a variety of local brews have made this annual festival a beloved and highly anticipated tradition for our Catskill community and our warmly welcomed out-of-town visitors.  Children’s games\, hayrides\, raffles\, vendors\, artisans and more\, all nestled between the Catskill Scenic Trail and the Delaware River. Stop by for dinner after enjoying DelCo Family Farm Day or spending an afternoon browsing the shops of the historic Hobart Book Village. Proceeds support community service programs. Admission free! \nTown Park – 101 Maple Ave\, Hobart\, NY 13788
URL:https://wyldblu.com/events/wyld-blu-hobart-sausage-brew-festival/
LOCATION:Hobart Town Park\, 101 Maple Ave\, Hobart\, NY\, 13788
END:VEVENT
BEGIN:VEVENT
DTSTART;TZID=America/New_York:20240831T170000
DTEND;TZID=America/New_York:20240831T190000
DTSTAMP:20260425T071615
CREATED:20240107T174845Z
LAST-MODIFIED:20240107T174845Z
UID:3259-1725123600-1725130800@wyldblu.com
SUMMARY:SOLO BLU: Real Maine Lobster Bake
DESCRIPTION:Live Music@ The Theatre Garden!!  Here comes another deliciously good Real Maine Lobster Bake season! \nWindham’s Real Maine Lobster Bake is Saturday from 5-7 p.m. Fresh Lobster is shipped overnight from the ocean waters of Maine!\nPrepared at our state-of-the-art outdoor seafood kitchen\, Real Maine Lobster Bake features live Maine lobster\, fresh shrimp\, corn on the cob\, slaw\, the best barbecue and new this year Fried Fresh Seafood Baskets – Takeouts available or eat at tables or in tents on our spacious stream side garden behind the Windham Theatre.\nLive Music\, 18 hole mini golf\, ice cream\, games and fun for all ages! \n– YOU MUST PRE-ORDER BY WEDNESDAY 9PM PRIOR – You can reserve your dinners today\, with online ordering:\nhttps://realmainelobsterbake.square.site/ \n 
URL:https://wyldblu.com/events/solo-blu-real-maine-lobster-bake-2/
LOCATION:Windham Theatre\, 11 Vets Road\, Windham\, NY\, 12496
END:VEVENT
END:VCALENDAR