BEGIN:VCALENDAR
VERSION:2.0
PRODID:-//Wyld Blu - ECPv6.15.20//NONSGML v1.0//EN
CALSCALE:GREGORIAN
METHOD:PUBLISH
X-ORIGINAL-URL:https://wyldblu.com
X-WR-CALDESC:Events for Wyld Blu
REFRESH-INTERVAL;VALUE=DURATION:PT1H
X-Robots-Tag:noindex
X-PUBLISHED-TTL:PT1H
BEGIN:VTIMEZONE
TZID:America/New_York
BEGIN:DAYLIGHT
TZOFFSETFROM:-0500
TZOFFSETTO:-0400
TZNAME:EDT
DTSTART:20250309T070000
END:DAYLIGHT
BEGIN:STANDARD
TZOFFSETFROM:-0400
TZOFFSETTO:-0500
TZNAME:EST
DTSTART:20251102T060000
END:STANDARD
BEGIN:DAYLIGHT
TZOFFSETFROM:-0500
TZOFFSETTO:-0400
TZNAME:EDT
DTSTART:20260308T070000
END:DAYLIGHT
BEGIN:STANDARD
TZOFFSETFROM:-0400
TZOFFSETTO:-0500
TZNAME:EST
DTSTART:20261101T060000
END:STANDARD
BEGIN:DAYLIGHT
TZOFFSETFROM:-0500
TZOFFSETTO:-0400
TZNAME:EDT
DTSTART:20270314T070000
END:DAYLIGHT
BEGIN:STANDARD
TZOFFSETFROM:-0400
TZOFFSETTO:-0500
TZNAME:EST
DTSTART:20271107T060000
END:STANDARD
END:VTIMEZONE
BEGIN:VEVENT
DTSTART;TZID=America/New_York:20260214T190000
DTEND;TZID=America/New_York:20260214T210000
DTSTAMP:20260422T051852
CREATED:20251211T204753Z
LAST-MODIFIED:20251211T204753Z
UID:3723-1771095600-1771102800@wyldblu.com
SUMMARY:SOLO BLU: Windham Local Public House
DESCRIPTION:Is the most “rocking” thing the ice in your glass? Unleash your inner foodie and join us for an acoustic evening with Alana Wyld at The Windham Local\, where the blues\, brews\, and bites are perfectly paired with farm-to-table delights\, decadent desserts\, an array of local craft beer\, wine\, handcrafted coffees and sheer yumminess!
URL:https://wyldblu.com/events/solo-blu-windham-local-public-house-16/
LOCATION:Windham Local Public House\, 5410 NY-23 MAIN STREET\, WINDHAM\, NY\, 12496
CATEGORIES:Live Music
END:VEVENT
BEGIN:VEVENT
DTSTART;TZID=America/New_York:20260228T180000
DTEND;TZID=America/New_York:20260228T210000
DTSTAMP:20260422T051852
CREATED:20251230T212508Z
LAST-MODIFIED:20251230T212508Z
UID:3726-1772301600-1772312400@wyldblu.com
SUMMARY:A Blu Pisces Party & Jam @ The Run
DESCRIPTION:Calling all Pisces and Pisces-at-Heart!! Come on down for a fun-filled night! We’re celebrating life\, love\, birthdays and makin’ great music!\nWe’ll be shakin’ and swingin’ with friends.. a li’l bit ‘o country\, rock and a whole lotta blues with Alana Wyld and Dorraine Scofield and friends. \nFUN at the Run!\nWear your dancin’ shoes!
URL:https://wyldblu.com/events/a-blu-pisces-party-jam-the-run/
LOCATION:Chicken Run Family Restaurant & Steakhouse\, 5639 State Route 23\, Windham NY\, 12496\, United States
CATEGORIES:Live Music
END:VEVENT
END:VCALENDAR