BEGIN:VCALENDAR
VERSION:2.0
PRODID:-//Wyld Blu - ECPv6.15.20//NONSGML v1.0//EN
CALSCALE:GREGORIAN
METHOD:PUBLISH
X-ORIGINAL-URL:https://wyldblu.com
X-WR-CALDESC:Events for Wyld Blu
REFRESH-INTERVAL;VALUE=DURATION:PT1H
X-Robots-Tag:noindex
X-PUBLISHED-TTL:PT1H
BEGIN:VTIMEZONE
TZID:America/New_York
BEGIN:DAYLIGHT
TZOFFSETFROM:-0500
TZOFFSETTO:-0400
TZNAME:EDT
DTSTART:20250309T070000
END:DAYLIGHT
BEGIN:STANDARD
TZOFFSETFROM:-0400
TZOFFSETTO:-0500
TZNAME:EST
DTSTART:20251102T060000
END:STANDARD
BEGIN:DAYLIGHT
TZOFFSETFROM:-0500
TZOFFSETTO:-0400
TZNAME:EDT
DTSTART:20260308T070000
END:DAYLIGHT
BEGIN:STANDARD
TZOFFSETFROM:-0400
TZOFFSETTO:-0500
TZNAME:EST
DTSTART:20261101T060000
END:STANDARD
BEGIN:DAYLIGHT
TZOFFSETFROM:-0500
TZOFFSETTO:-0400
TZNAME:EDT
DTSTART:20270314T070000
END:DAYLIGHT
BEGIN:STANDARD
TZOFFSETFROM:-0400
TZOFFSETTO:-0500
TZNAME:EST
DTSTART:20271107T060000
END:STANDARD
END:VTIMEZONE
BEGIN:VEVENT
DTSTART;TZID=America/New_York:20260530T143000
DTEND;TZID=America/New_York:20260530T163000
DTSTAMP:20260422T064428
CREATED:20260406T174851Z
LAST-MODIFIED:20260406T174851Z
UID:3747-1780151400-1780158600@wyldblu.com
SUMMARY:BLUX2 @Arts Around Greenville Festival
DESCRIPTION:BLUX2  – serving up a bluesy stew and a fist full of rock and roll! \nFESTIVAL 11AM-5PM • FREE ADMISSION! Enjoy Local Fine Art and Craft Vendors\, local food truck\, chainsaw carving\, flowers\, free kids activities\, Plein Air painting and live art demonstrations! \nARTISTS & ARTISANS • GIFTS • GOODIES • CRAFTS • FOOD TRUCK • LIVE ART DEMOS • FLOWERS • FUN FOR THE WHOLE FAMILY! LIVE MUSIC: STARTS @ 1PM • WYLD BLU @ 2:30P \nGeorge V. Vanderbilt Town Park\n25 Town Park Dr.\, Greenville\, NY 12083 \nSponsored by Community Partners of Greenville NFP
URL:https://wyldblu.com/events/blux2-arts-around-greenville-festival/
LOCATION:George V. Vanderbilt Town Park\, 25 Town Park Dr.\, Greenville\, NY\, 12083
END:VEVENT
BEGIN:VEVENT
DTSTART;TZID=America/New_York:20260627T130000
DTEND;TZID=America/New_York:20260627T160000
DTSTAMP:20260422T064428
CREATED:20260406T175701Z
LAST-MODIFIED:20260406T175701Z
UID:3753-1782565200-1782576000@wyldblu.com
SUMMARY:BLU X2 @ Shankdaken Inn
DESCRIPTION:Swingin’ blues featuring Alana Wyld and Rick Surrano. \nRelax and enjoy an afternoon of live music\, lunch and libations at the historic Shandaken Inn.. Rolling meadows\, mountain views from the bluestone patio –\nPaying homage to the once-famous Rip Van Winkle Club\, The Clubhouse is named after the historic golf course\, originally built in the 1920s. Featuring a hearty yet simple cuisine crafted from the freshest seasonal produce and sourced by the region’s most notable artisans\, purveyors\, and farmers. From small\, shareable plates and sides to wholesome entrees\, sweets\, and craft cocktails\, the menu rotates based on seasonal and market availability \n1 Golf Course Rd\, Shandaken\, NY 12480
URL:https://wyldblu.com/events/blu-x2-shankdaken-inn-4/
LOCATION:Shandaken Inn\, 1 Golf Course Rd\, Shandaken\, NY\, 12480
CATEGORIES:Live Music
END:VEVENT
BEGIN:VEVENT
DTSTART;TZID=America/New_York:20260710T180000
DTEND;TZID=America/New_York:20260710T200000
DTSTAMP:20260422T064428
CREATED:20260406T180300Z
LAST-MODIFIED:20260406T180300Z
UID:3755-1783706400-1783713600@wyldblu.com
SUMMARY:WYLD BLU @ Red Hook Villlage Green
DESCRIPTION:WYLD BLU BAND\nFREE Summer Concert at Red Hook Village Green – bring your lawn chairs\, picnic lunch and relax and enjoy!!
URL:https://wyldblu.com/events/wyld-blu-red-hook-villlage-green-3/
LOCATION:Red Hook Village Green\, 7508 N Broadway St\, Red Hook\, NY
CATEGORIES:Live Music
END:VEVENT
BEGIN:VEVENT
DTSTART;TZID=America/New_York:20260716T180000
DTEND;TZID=America/New_York:20260716T200000
DTSTAMP:20260422T064428
CREATED:20260406T180423Z
LAST-MODIFIED:20260406T180423Z
UID:3757-1784224800-1784232000@wyldblu.com
SUMMARY:BLUX2 @ Del's Roadside Rhinebeck
DESCRIPTION:BLUX2 @ Del’s Roadside Rhinebeck – serving up a bluesy stew: a li’l bit o’ country\, bluegrass\, a whole lotta blues and a fist full of rock and roll @ the iconic Rhinebeck roadside stand is where it all comes together… Amazing ice cream\, grab a fresh smash burger\, sit outside and spend time with your family and friends. You can kick back\, play some cornhole\, indulge in farm-fresh\, handmade ice cream & delicious\, local fare! \nCome hang out with us. Enjoy live music. Eat ice cream. Be happy. \n\n\nDel’s is made to gather and enjoy the moment with our delectable ice cream\, great food\, and even a few beverages (try one of our incredible boozy shakes).\nOur scoops begin with fresh milk straight from the farm to our small batch creamery where all the magic happens. \n\n\n  \n\n\nVisit Del’s Rhinebeck on FaceBook
URL:https://wyldblu.com/events/blux2-dels-roadside-rhinebeck/
LOCATION:Del’s Roadside Rhinebeck\, 6780 Albany Post Road\, Rhinebeck\, NY\, 12572
END:VEVENT
BEGIN:VEVENT
DTSTART;TZID=America/New_York:20260808T130000
DTEND;TZID=America/New_York:20260808T160000
DTSTAMP:20260422T064429
CREATED:20260406T180638Z
LAST-MODIFIED:20260406T180638Z
UID:3759-1786194000-1786204800@wyldblu.com
SUMMARY:BLU X2 @ Shankdaken Inn
DESCRIPTION:Swingin’ blues featuring Alana Wyld and Rick Surrano. \nRelax and enjoy an afternoon of live music\, lunch and libations at the historic Shandaken Inn.. Rolling meadows\, mountain views from the bluestone patio –\nPaying homage to the once-famous Rip Van Winkle Club\, The Clubhouse is named after the historic golf course\, originally built in the 1920s. Featuring a hearty yet simple cuisine crafted from the freshest seasonal produce and sourced by the region’s most notable artisans\, purveyors\, and farmers. From small\, shareable plates and sides to wholesome entrees\, sweets\, and craft cocktails\, the menu rotates based on seasonal and market availability \n1 Golf Course Rd\, Shandaken\, NY 12480
URL:https://wyldblu.com/events/blu-x2-shankdaken-inn-5/
LOCATION:Shandaken Inn\, 1 Golf Course Rd\, Shandaken\, NY\, 12480
CATEGORIES:Live Music
END:VEVENT
END:VCALENDAR