BEGIN:VCALENDAR
VERSION:2.0
PRODID:-//Wyld Blu - ECPv6.15.20//NONSGML v1.0//EN
CALSCALE:GREGORIAN
METHOD:PUBLISH
X-ORIGINAL-URL:https://wyldblu.com
X-WR-CALDESC:Events for Wyld Blu
REFRESH-INTERVAL;VALUE=DURATION:PT1H
X-Robots-Tag:noindex
X-PUBLISHED-TTL:PT1H
BEGIN:VTIMEZONE
TZID:America/New_York
BEGIN:DAYLIGHT
TZOFFSETFROM:-0500
TZOFFSETTO:-0400
TZNAME:EDT
DTSTART:20230312T070000
END:DAYLIGHT
BEGIN:STANDARD
TZOFFSETFROM:-0400
TZOFFSETTO:-0500
TZNAME:EST
DTSTART:20231105T060000
END:STANDARD
BEGIN:DAYLIGHT
TZOFFSETFROM:-0500
TZOFFSETTO:-0400
TZNAME:EDT
DTSTART:20240310T070000
END:DAYLIGHT
BEGIN:STANDARD
TZOFFSETFROM:-0400
TZOFFSETTO:-0500
TZNAME:EST
DTSTART:20241103T060000
END:STANDARD
BEGIN:DAYLIGHT
TZOFFSETFROM:-0500
TZOFFSETTO:-0400
TZNAME:EDT
DTSTART:20250309T070000
END:DAYLIGHT
BEGIN:STANDARD
TZOFFSETFROM:-0400
TZOFFSETTO:-0500
TZNAME:EST
DTSTART:20251102T060000
END:STANDARD
END:VTIMEZONE
BEGIN:VEVENT
DTSTART;TZID=America/New_York:20240916T160000
DTEND;TZID=America/New_York:20240916T190000
DTSTAMP:20260425T125321
CREATED:20240311T154405Z
LAST-MODIFIED:20240311T154454Z
UID:3331-1726502400-1726513200@wyldblu.com
SUMMARY:BLU X2: Shinglekill Falls Farmer's Market
DESCRIPTION:Market Mondays with BLUX2  – serving up a bluesy stew and a fist full of rock and roll! \nScenic Shinglekill Falls\, family and pet-friendly\, awesome local artisans\, crafts\, gifts\, food and fun for all. \nJUNE 17 • JULY 15 • AUG 19 • SEPT 16\n( 4-7PM • THIRD MONDAY EACH MONTH ) \nLIVE MUSIC • FAB FOOD TRUCKS\nCRAFT BREWS & BEVERAGES • FRESH PRODUCE\nCHOICE MEATS • BAKED GOODS & DESSERTS\nHONEY • FLOWERS • LOCAL ARTISANS\nGIFTS • CRAFTS • JEWELRY • MORE!
URL:https://wyldblu.com/events/blu-x2-shinglekill-falls-farmers-market-2/
LOCATION:Shinglekill Falls Farmer’s Market\, 500 Mountain Avenue\, Purling\, NY\, 12470
END:VEVENT
END:VCALENDAR