BEGIN:VCALENDAR
VERSION:2.0
PRODID:-//Wyld Blu - ECPv6.15.20//NONSGML v1.0//EN
CALSCALE:GREGORIAN
METHOD:PUBLISH
X-WR-CALNAME:Wyld Blu
X-ORIGINAL-URL:https://wyldblu.com
X-WR-CALDESC:Events for Wyld Blu
REFRESH-INTERVAL;VALUE=DURATION:PT1H
X-Robots-Tag:noindex
X-PUBLISHED-TTL:PT1H
BEGIN:VTIMEZONE
TZID:America/New_York
BEGIN:DAYLIGHT
TZOFFSETFROM:-0500
TZOFFSETTO:-0400
TZNAME:EDT
DTSTART:20240310T070000
END:DAYLIGHT
BEGIN:STANDARD
TZOFFSETFROM:-0400
TZOFFSETTO:-0500
TZNAME:EST
DTSTART:20241103T060000
END:STANDARD
BEGIN:DAYLIGHT
TZOFFSETFROM:-0500
TZOFFSETTO:-0400
TZNAME:EDT
DTSTART:20250309T070000
END:DAYLIGHT
BEGIN:STANDARD
TZOFFSETFROM:-0400
TZOFFSETTO:-0500
TZNAME:EST
DTSTART:20251102T060000
END:STANDARD
BEGIN:DAYLIGHT
TZOFFSETFROM:-0500
TZOFFSETTO:-0400
TZNAME:EDT
DTSTART:20260308T070000
END:DAYLIGHT
BEGIN:STANDARD
TZOFFSETFROM:-0400
TZOFFSETTO:-0500
TZNAME:EST
DTSTART:20261101T060000
END:STANDARD
END:VTIMEZONE
BEGIN:VEVENT
DTSTART;TZID=America/New_York:20250518T150000
DTEND;TZID=America/New_York:20250518T180000
DTSTAMP:20260422T223332
CREATED:20250127T172844Z
LAST-MODIFIED:20250319T173745Z
UID:3529-1747580400-1747591200@wyldblu.com
SUMMARY:WYLD BLU: Bikes\, Brews & Blues @ The Run
DESCRIPTION:Come on out for a special day of Bikes\, Brews ‘n Blues — Cross-county annual Ride Against Cancer – landing at the Chicken Run\, live music with WYLD BLU BAND\, great food\, drinks\, raffles\, prizes and fun for all.\nBeautiful outdoor terrace\, indoor and outdoor dining\, full bar\, specials.. \nALL PROCEEDS BENEFIT THE GREENE COUNTY WOMEN’S LEAGUE CANCER PATIENT AID \nMUSIC & AFTER PARTY AT THE RUN: 3PM \nBIKE RUN REGISTRATION: 10am | Kick Stands Up: 11am\nCall Rick Jacobs for details: 518-821-0418
URL:https://wyldblu.com/events/bikes-brews-blues-the-run/
LOCATION:Chicken Run Family Restaurant & Steakhouse\, 5639 State Route 23\, Windham NY\, 12496\, United States
END:VEVENT
END:VCALENDAR