BEGIN:VCALENDAR
VERSION:2.0
PRODID:-//Wyld Blu - ECPv6.15.20//NONSGML v1.0//EN
CALSCALE:GREGORIAN
METHOD:PUBLISH
X-ORIGINAL-URL:https://wyldblu.com
X-WR-CALDESC:Events for Wyld Blu
REFRESH-INTERVAL;VALUE=DURATION:PT1H
X-Robots-Tag:noindex
X-PUBLISHED-TTL:PT1H
BEGIN:VTIMEZONE
TZID:America/New_York
BEGIN:DAYLIGHT
TZOFFSETFROM:-0500
TZOFFSETTO:-0400
TZNAME:EDT
DTSTART:20240310T070000
END:DAYLIGHT
BEGIN:STANDARD
TZOFFSETFROM:-0400
TZOFFSETTO:-0500
TZNAME:EST
DTSTART:20241103T060000
END:STANDARD
BEGIN:DAYLIGHT
TZOFFSETFROM:-0500
TZOFFSETTO:-0400
TZNAME:EDT
DTSTART:20250309T070000
END:DAYLIGHT
BEGIN:STANDARD
TZOFFSETFROM:-0400
TZOFFSETTO:-0500
TZNAME:EST
DTSTART:20251102T060000
END:STANDARD
BEGIN:DAYLIGHT
TZOFFSETFROM:-0500
TZOFFSETTO:-0400
TZNAME:EDT
DTSTART:20260308T070000
END:DAYLIGHT
BEGIN:STANDARD
TZOFFSETFROM:-0400
TZOFFSETTO:-0500
TZNAME:EST
DTSTART:20261101T060000
END:STANDARD
END:VTIMEZONE
BEGIN:VEVENT
DTSTART;TZID=America/New_York:20250803T140000
DTEND;TZID=America/New_York:20250803T160000
DTSTAMP:20260422T171203
CREATED:20250516T133552Z
LAST-MODIFIED:20250729T155158Z
UID:3623-1754229600-1754236800@wyldblu.com
SUMMARY:WYLD BLU @ Shandaken Summer Concert Series
DESCRIPTION:An electrifying afternoon of live music\, good times and fun with friends   WEAR YOUR DANCIN’ SHOES!\nWYLD BLU BAND will be rockin the gazebo stage @ Big Indian park\, Shandaken\, NY.\n\nSHANDAKEN SUMMER CONCERT SERIES • FREE ADMISSION • Festivities: 1-4pm • Live Music @2p\nRolling lawns\, playground\, picnic tables\, surrounded by picturesque mountain views…\nFab local food trucks\, beer\, wine and cider\, and more! Relaxed family-friendly atmosphere\, leashed and well-behaved pets welcome.\n\n\n\n\n8280 NY-28\, Big Indian\, NY 12410
URL:https://wyldblu.com/events/wyld-blu-shandaken-summer-concert-series/
LOCATION:Big Indian Park\, Shandaken NY\, 8280 NY-28\, Big Indian\, NY\, 12410
END:VEVENT
BEGIN:VEVENT
DTSTART;TZID=America/New_York:20250807T190000
DTEND;TZID=America/New_York:20250807T210000
DTSTAMP:20260422T171203
CREATED:20250516T134531Z
LAST-MODIFIED:20250516T135159Z
UID:3627-1754593200-1754600400@wyldblu.com
SUMMARY:WYLD BLU: Catskill Summer Concert Series
DESCRIPTION:Music In The Park Summer Concert Series: WYLD BLU Band will be rockin’ the main stage – Join us for an evening of live music at scenic Dutchman’s Landing Park\, Catskill NY – on the banks of the mighty Hudson. Food and drink avail\, or bring your lawn chairs and a picnic dinner and enjoy a beautiful evening.Captivating scenic views on the banks of the Hudson River at Dutchman’s Landing Park! Food vendors\, ice cream\, BBQ stations\, picnic tables\, live music and more! \nHeart of Catskill Association Summer Music Concert Series @ 7:00 PM – 9:00 PM \nhttps://www.facebook.com/Catskill.Musicinthepark \n 
URL:https://wyldblu.com/events/wyld-blu-catskill-summer-concert-series/
LOCATION:Dutchman’s Landing Park\, 10 Main Street\, Catskill\, NY\, 12414
END:VEVENT
BEGIN:VEVENT
DTSTART;TZID=America/New_York:20250809T150000
DTEND;TZID=America/New_York:20250809T180000
DTSTAMP:20260422T171203
CREATED:20250319T171245Z
LAST-MODIFIED:20250729T155251Z
UID:3583-1754751600-1754762400@wyldblu.com
SUMMARY:WYLD BLU @ Sunken City Cider\, Gilboa NY
DESCRIPTION:WYLD BLU BAND @ Sunken City Cider –  an electrifying afternoon of live music\, good times and fun with friends   WEAR YOUR DANCIN’ SHOES!\n\nNestled on the banks of the Schoharie Creek and surrounded by picturesque mountain views\, Sunken City Cider is located on a scenic 70-acres.. rolling lawns\, apple orchard\, cidery & live music venue! Charcuterie boards and snacks at the bar\, featuring fab local food trucks each weekend. Relaxed family-friendly atmosphere\, leashed and well-behaved pets welcome.
URL:https://wyldblu.com/events/wyld-blu-rockland-cider-works-2/
LOCATION:Sunken City Cider\, 193 STRYKER ROAD\, GILBOA\, NY\, 12076
END:VEVENT
BEGIN:VEVENT
DTSTART;TZID=America/New_York:20250814T190000
DTEND;TZID=America/New_York:20250814T220000
DTSTAMP:20260422T171203
CREATED:20250516T134817Z
LAST-MODIFIED:20250516T134817Z
UID:3630-1755198000-1755208800@wyldblu.com
SUMMARY:Pro Jam #46 Colony Woodstock
DESCRIPTION:A NIGHT OF THE REGION’S BEST BLUES MUSICIANS AND DOZENS OF HUDSON VALLEY PRO TOURING MUSICIANS!\nPJ #46 will kick off with the House Band playing a set\, then the floor opens up to join in the Pro Jam! \nPro Jam MC Alana Wyld (Wyld Blu) will join the House Band for a few tunes\, and then we’ll open it up to all musicians.\nDoors Open & Sign-ups are at 6 pm\, show starts at 7 pm.  – NO COVER: DONATIONS WELCOME :) \nSign up early! Stay Late! Have Fun!\nVisit: ProJamLive.com\n \nThe Historic Colony Woodstock – Restored 1929 theater and dining hall featuring diverse music acts plus comedy & art events in an intimate setting.. full menu & bar.
URL:https://wyldblu.com/events/pro-jam-46-colony-woodstock/
LOCATION:Colony Woodstock\, 22 ROCK CITY ROAD\, WOODSTOCK\, NY\, 12498
END:VEVENT
BEGIN:VEVENT
DTSTART;TZID=America/New_York:20250820T180000
DTEND;TZID=America/New_York:20250820T200000
DTSTAMP:20260422T171203
CREATED:20250524T142403Z
LAST-MODIFIED:20250820T152443Z
UID:3652-1755712800-1755720000@wyldblu.com
SUMMARY:WYLD BLU: HUDSON WATERFRONT PARK
DESCRIPTION:WYLD BLU Band will be rockin’ the outdoor stage – Join us for an evening of live music at scenic Henry Hudson Riverfront Park\, Hudson NY – on the banks of the mighty Hudson. Food and drink avail\, or bring your lawn chairs and a picnic dinner and enjoy a beautiful evening. \nWATERFRONT WEDNESDAYS: Captivating scenic views on the banks of the Hudson River! Food vendors\, ice cream\, BBQ stations\, vendors\, crafts\, picnic tables\, live music and more!
URL:https://wyldblu.com/events/wyld-blu-hudson-waterfront-park/
LOCATION:Hudson Riverfront Park\, Water Street\, Hudson\, NY\, 12534
END:VEVENT
BEGIN:VEVENT
DTSTART;TZID=America/New_York:20250823T180000
DTEND;TZID=America/New_York:20250823T210000
DTSTAMP:20260422T171203
CREATED:20250516T135557Z
LAST-MODIFIED:20250729T155413Z
UID:3588-1755972000-1755982800@wyldblu.com
SUMMARY:BLU RAINE BAND @ The Run
DESCRIPTION:A special evening of smokin’ swingin’ country\, rock and blues featuring Alana Wyld and Dorraine Scofield with the WYLD BLU BAND shakin’ the outdoor stage. \nWHERE THE FUN IS! Relax & indulge in s’mores by the fire pit… creekside beer garden and dining\, open-air and outdoor dining and delicious home style fare\, drink specials!! Family friendly\, fun and good times for all!
URL:https://wyldblu.com/events/blu-raine-the-run/
LOCATION:Chicken Run Family Restaurant & Steakhouse\, 5639 State Route 23\, Windham NY\, 12496\, United States
END:VEVENT
BEGIN:VEVENT
DTSTART;TZID=America/New_York:20250827T180000
DTEND;TZID=America/New_York:20250827T200000
DTSTAMP:20260422T171203
CREATED:20250516T135753Z
LAST-MODIFIED:20250820T153003Z
UID:3585-1756317600-1756324800@wyldblu.com
SUMMARY:BLU RAINE BAND @ Napanoch Summer Concert Series
DESCRIPTION:Get ready to kick up some dust\, folks! It’s the Napanoch Summer Concert Series finale\, and we’re going out with a bang! We’ve got BluRaine: Alana Wyld & Dorraine Scofield with the BluRaine Band ready to unleash a rompin-stompin-boot-scootin’ night of country magic. And tonight\, we’re especially honored to celebrate our Veterans. So come on down\, show your love and support\, and wear yer dancin’ shoes!\nWe are thrilled to come together to honor our nation’s heroes—our Veterans. This beautiful\, free concert is proudly presented by the Napanoch Public Interest Group and hosted by the Napanoch Elks. Thank you to this amazing organization for the pavilion\, the support\, and commitment to our community spirit.\n\nEllenville Elks Lodge 1971 \n\n\nAddress: 50 State Rte 55\, Napanoch\, NY 12458\n\n\n\n\nPhone: (845) 647-8001
URL:https://wyldblu.com/events/blu-raine-napanoch/
LOCATION:Elks Lodge Napanoch\, 50 State Rte 55\, Napanoch\, NY\, 12458
END:VEVENT
BEGIN:VEVENT
DTSTART;TZID=America/New_York:20250828T180000
DTEND;TZID=America/New_York:20250828T200000
DTSTAMP:20260422T171203
CREATED:20250516T140036Z
LAST-MODIFIED:20250820T152739Z
UID:3640-1756404000-1756411200@wyldblu.com
SUMMARY:BLUX2 @ Del's Roadside Rhinebeck
DESCRIPTION:BLUX2 @ Del’s Roadside Rhinebeck – serving up a bluesy stew: a li’l bit o’ country\, bluegrass\, a whole lotta blues and a fist full of rock and roll @ the iconic Rhinebeck roadside stand is where it all comes together… Amazing ice cream\, grab a fresh smash burger\, sit outside and spend time with your family and friends. You can kick back\, play some cornhole\, indulge in farm-fresh\, handmade ice cream & delicious\, local fare! \nCome hang out with us. Enjoy live music. Eat ice cream. Be happy. \n\n\nDel’s is made to gather and enjoy the moment with our delectable ice cream\, great food\, and even a few beverages (try one of our incredible boozy shakes).\nOur scoops begin with fresh milk straight from the farm to our small batch creamery where all the magic happens. \n\n\n  \n\n\nVisit Del’s Rhinebeck on FaceBook
URL:https://wyldblu.com/events/blux2-dales-roadside-rhinebeck-2/
LOCATION:Del’s Roadside Rhinebeck\, 6780 Albany Post Road\, Rhinebeck\, NY\, 12572
END:VEVENT
END:VCALENDAR