BEGIN:VCALENDAR
VERSION:2.0
PRODID:-//Wyld Blu - ECPv6.15.20//NONSGML v1.0//EN
CALSCALE:GREGORIAN
METHOD:PUBLISH
X-ORIGINAL-URL:https://wyldblu.com
X-WR-CALDESC:Events for Wyld Blu
REFRESH-INTERVAL;VALUE=DURATION:PT1H
X-Robots-Tag:noindex
X-PUBLISHED-TTL:PT1H
BEGIN:VTIMEZONE
TZID:America/New_York
BEGIN:DAYLIGHT
TZOFFSETFROM:-0500
TZOFFSETTO:-0400
TZNAME:EDT
DTSTART:20250309T070000
END:DAYLIGHT
BEGIN:STANDARD
TZOFFSETFROM:-0400
TZOFFSETTO:-0500
TZNAME:EST
DTSTART:20251102T060000
END:STANDARD
BEGIN:DAYLIGHT
TZOFFSETFROM:-0500
TZOFFSETTO:-0400
TZNAME:EDT
DTSTART:20260308T070000
END:DAYLIGHT
BEGIN:STANDARD
TZOFFSETFROM:-0400
TZOFFSETTO:-0500
TZNAME:EST
DTSTART:20261101T060000
END:STANDARD
BEGIN:DAYLIGHT
TZOFFSETFROM:-0500
TZOFFSETTO:-0400
TZNAME:EDT
DTSTART:20270314T070000
END:DAYLIGHT
BEGIN:STANDARD
TZOFFSETFROM:-0400
TZOFFSETTO:-0500
TZNAME:EST
DTSTART:20271107T060000
END:STANDARD
END:VTIMEZONE
BEGIN:VEVENT
DTSTART;TZID=America/New_York:20260205T180000
DTEND;TZID=America/New_York:20260205T200000
DTSTAMP:20260422T064735
CREATED:20251211T204333Z
LAST-MODIFIED:20251211T204333Z
UID:3719-1770314400-1770321600@wyldblu.com
SUMMARY:Solo Blu @ The Run
DESCRIPTION:Solo Blu @ The Run’s awesome Tavern – dinner + TURKEY NIGHT + drink specials\, live music\, Thurs night fun @ the Run! \nBest way to warm ‘yer buns! Come treat yourself to a delicious dinner\, high-five a friendly face and let the good times roll like a runaway egg. AND it’s Turkey Night!!
URL:https://wyldblu.com/events/solo-blu-the-run-11/
LOCATION:Chicken Run Family Restaurant & Steakhouse\, 5639 State Route 23\, Windham NY\, 12496\, United States
CATEGORIES:Live Music
END:VEVENT
BEGIN:VEVENT
DTSTART;TZID=America/New_York:20260207T150000
DTEND;TZID=America/New_York:20260207T190000
DTSTAMP:20260422T064735
CREATED:20251211T204617Z
LAST-MODIFIED:20251211T204617Z
UID:3721-1770476400-1770490800@wyldblu.com
SUMMARY:Blu @ Plattekill Mountain NY
DESCRIPTION:Apres-Ski @ fabulous Plattekill Mountain! Swingin’ Rockin’ Vibin’ country\, rock and blues featuring Alana Wyld and Dorraine Scofield. Wear your dancin’ shoes!
URL:https://wyldblu.com/events/blu-plattekill-mountain-ny/
LOCATION:Plattekill Mountain Resort\, 469 Plattekill Road\, Roxbury\, NY\, 12474
CATEGORIES:Live Music
END:VEVENT
BEGIN:VEVENT
DTSTART;TZID=America/New_York:20260226T190000
DTEND;TZID=America/New_York:20260226T220000
DTSTAMP:20260422T064735
CREATED:20251211T203148Z
LAST-MODIFIED:20251211T203148Z
UID:3705-1772132400-1772143200@wyldblu.com
SUMMARY:Pro Jam #50th Anniversary Party! Colony Woodstock
DESCRIPTION:50TH ANNIVERSARY PARTY!!!\nA NIGHT OF THE REGION’S BEST BLUES MUSICIANS AND DOZENS OF HUDSON VALLEY PRO TOURING MUSICIANS!\nPJ #50 will kick off with the House Band playing a set\, then the floor opens up to join in the Pro Jam! \nPro Jam MC Alana Wyld (Wyld Blu) will join the House Band for a few tunes\, and then we’ll open it up to all musicians.\nDoors Open & Sign-ups are at 6 pm\, show starts at 7 pm.  – NO COVER: DONATIONS WELCOME :) \nSign up early! Stay Late! Have Fun!\nVisit: ProJamLive.com\n \nThe Historic Colony Woodstock – Restored 1929 theater and dining hall featuring diverse music acts plus comedy & art events in an intimate setting.. full menu & bar.
URL:https://wyldblu.com/events/pro-jam-50th-anniversary-party-colony-woodstock/
LOCATION:Colony Woodstock\, 22 ROCK CITY ROAD\, WOODSTOCK\, NY\, 12498
CATEGORIES:Live Music
END:VEVENT
END:VCALENDAR