BEGIN:VCALENDAR
VERSION:2.0
PRODID:-//Wyld Blu - ECPv6.15.20//NONSGML v1.0//EN
CALSCALE:GREGORIAN
METHOD:PUBLISH
X-WR-CALNAME:Wyld Blu
X-ORIGINAL-URL:https://wyldblu.com
X-WR-CALDESC:Events for Wyld Blu
REFRESH-INTERVAL;VALUE=DURATION:PT1H
X-Robots-Tag:noindex
X-PUBLISHED-TTL:PT1H
BEGIN:VTIMEZONE
TZID:America/New_York
BEGIN:DAYLIGHT
TZOFFSETFROM:-0500
TZOFFSETTO:-0400
TZNAME:EDT
DTSTART:20250309T070000
END:DAYLIGHT
BEGIN:STANDARD
TZOFFSETFROM:-0400
TZOFFSETTO:-0500
TZNAME:EST
DTSTART:20251102T060000
END:STANDARD
BEGIN:DAYLIGHT
TZOFFSETFROM:-0500
TZOFFSETTO:-0400
TZNAME:EDT
DTSTART:20260308T070000
END:DAYLIGHT
BEGIN:STANDARD
TZOFFSETFROM:-0400
TZOFFSETTO:-0500
TZNAME:EST
DTSTART:20261101T060000
END:STANDARD
BEGIN:DAYLIGHT
TZOFFSETFROM:-0500
TZOFFSETTO:-0400
TZNAME:EDT
DTSTART:20270314T070000
END:DAYLIGHT
BEGIN:STANDARD
TZOFFSETFROM:-0400
TZOFFSETTO:-0500
TZNAME:EST
DTSTART:20271107T060000
END:STANDARD
END:VTIMEZONE
BEGIN:VEVENT
DTSTART;TZID=America/New_York:20260604T190000
DTEND;TZID=America/New_York:20260604T220000
DTSTAMP:20260422T052010
CREATED:20260406T175213Z
LAST-MODIFIED:20260406T175213Z
UID:3749-1780599600-1780610400@wyldblu.com
SUMMARY:Pro Jam #52: Women in Blues @ Colony Woodstock
DESCRIPTION:A NIGHT OF THE REGION’S BEST BLUES MUSICIANS AND DOZENS OF HUDSON VALLEY PRO TOURING MUSICIANS!\nPJ #52 – WOMEN IN BLUES SPECIAL\, Featuring Alana Wyld\, Dorraine Scofield and Elena PM  as House Band playing a set\, then the floor opens up to join in the Pro Jam! \nDoors Open & Sign-ups are at 6 pm\, show starts at 7 pm.  – NO COVER: DONATIONS WELCOME :) \nSign up early! Stay Late! Have Fun!\nVisit: ProJamLive.com\n \nThe Historic Colony Woodstock – Restored 1929 theater and dining hall featuring diverse music acts plus comedy & art events in an intimate setting.. full menu & bar.
URL:https://wyldblu.com/events/pro-jam-52-women-in-blues-colony-woodstock/
LOCATION:Colony Woodstock\, 22 ROCK CITY ROAD\, WOODSTOCK\, NY\, 12498
CATEGORIES:Live Music
END:VEVENT
END:VCALENDAR